BEGIN:VCALENDAR
VERSION:2.0
PRODID:-//Town of Lamar - ECPv6.15.11//NONSGML v1.0//EN
CALSCALE:GREGORIAN
METHOD:PUBLISH
X-ORIGINAL-URL:https://lamarsc.org
X-WR-CALDESC:Events for Town of Lamar
REFRESH-INTERVAL;VALUE=DURATION:PT1H
X-Robots-Tag:noindex
X-PUBLISHED-TTL:PT1H
BEGIN:VTIMEZONE
TZID:America/New_York
BEGIN:DAYLIGHT
TZOFFSETFROM:-0500
TZOFFSETTO:-0400
TZNAME:EDT
DTSTART:20210314T070000
END:DAYLIGHT
BEGIN:STANDARD
TZOFFSETFROM:-0400
TZOFFSETTO:-0500
TZNAME:EST
DTSTART:20211107T060000
END:STANDARD
BEGIN:DAYLIGHT
TZOFFSETFROM:-0500
TZOFFSETTO:-0400
TZNAME:EDT
DTSTART:20220313T070000
END:DAYLIGHT
BEGIN:STANDARD
TZOFFSETFROM:-0400
TZOFFSETTO:-0500
TZNAME:EST
DTSTART:20221106T060000
END:STANDARD
BEGIN:DAYLIGHT
TZOFFSETFROM:-0500
TZOFFSETTO:-0400
TZNAME:EDT
DTSTART:20230312T070000
END:DAYLIGHT
BEGIN:STANDARD
TZOFFSETFROM:-0400
TZOFFSETTO:-0500
TZNAME:EST
DTSTART:20231105T060000
END:STANDARD
END:VTIMEZONE
BEGIN:VEVENT
DTSTART;TZID=America/New_York:20220211T093000
DTEND;TZID=America/New_York:20220211T143000
DTSTAMP:20260424T063935
CREATED:20211206T175729Z
LAST-MODIFIED:20211206T175940Z
UID:5086-1644571800-1644589800@lamarsc.org
SUMMARY:Health Equity in the Pee Dee
DESCRIPTION:[vc_row][vc_column]\nAddressing Health Equity in the Pee Dee\nThe South Carolina Cancer Alliance\, with sponsorships of Pee Dee health organizations\, will be hosting an event to address Health Equity of those in the Pee Dee region.[/vc_column][/vc_row][vc_row][vc_column width=”1/2″][vc_single_image image=”5087″ img_size=”full”][/vc_column][vc_column width=”1/2″][vc_single_image image=”5088″ img_size=”full”][/vc_column][/vc_row][vc_row][vc_column][vc_empty_space][/vc_column][/vc_row]\nShare
URL:https://lamarsc.org/event/health-equity-in-the-pee-dee/
LOCATION:SIMT Building\, 1951 Pisgah Road\, Florence
CATEGORIES:Florence Event
ATTACH;FMTTYPE=image/png:https://lamarsc.org/wp-content/uploads/2021/12/health-equity-in-pee-dee.png
END:VEVENT
END:VCALENDAR