BEGIN:VCALENDAR
VERSION:2.0
PRODID:-//Town of Lamar - ECPv6.15.11//NONSGML v1.0//EN
CALSCALE:GREGORIAN
METHOD:PUBLISH
X-ORIGINAL-URL:https://lamarsc.org
X-WR-CALDESC:Events for Town of Lamar
REFRESH-INTERVAL;VALUE=DURATION:PT1H
X-Robots-Tag:noindex
X-PUBLISHED-TTL:PT1H
BEGIN:VTIMEZONE
TZID:America/New_York
BEGIN:DAYLIGHT
TZOFFSETFROM:-0500
TZOFFSETTO:-0400
TZNAME:EDT
DTSTART:20210314T070000
END:DAYLIGHT
BEGIN:STANDARD
TZOFFSETFROM:-0400
TZOFFSETTO:-0500
TZNAME:EST
DTSTART:20211107T060000
END:STANDARD
BEGIN:DAYLIGHT
TZOFFSETFROM:-0500
TZOFFSETTO:-0400
TZNAME:EDT
DTSTART:20220313T070000
END:DAYLIGHT
BEGIN:STANDARD
TZOFFSETFROM:-0400
TZOFFSETTO:-0500
TZNAME:EST
DTSTART:20221106T060000
END:STANDARD
BEGIN:DAYLIGHT
TZOFFSETFROM:-0500
TZOFFSETTO:-0400
TZNAME:EDT
DTSTART:20230312T070000
END:DAYLIGHT
BEGIN:STANDARD
TZOFFSETFROM:-0400
TZOFFSETTO:-0500
TZNAME:EST
DTSTART:20231105T060000
END:STANDARD
END:VTIMEZONE
BEGIN:VEVENT
DTSTART;VALUE=DATE:20220402
DTEND;VALUE=DATE:20220403
DTSTAMP:20260423T191203
CREATED:20220209T160840Z
LAST-MODIFIED:20220314T153335Z
UID:5262-1648857600-1648943999@lamarsc.org
SUMMARY:2022 Lamar Egg Scramble Jamboree Over Easy
DESCRIPTION:[vc_row][vc_column]\nThe Lamar Egg Scramble Jamboree committee has great news!!\n[/vc_column][/vc_row][vc_row][vc_column][vc_column_text]\nThe Egg Scramble will be back in swing for 2022 with a one-day event\, “Egg Scramble Jamboree Over Easy.”\nFor latest news on the day’s festivities\, check out our Egg Scramble page.  For details or questions\, you may call 843-942-9327 and leave a message.  All calls will be returned after 5pm.\n[/vc_column_text][vc_empty_space height=”42px”][/vc_column][/vc_row]\nShare
URL:https://lamarsc.org/event/2022-lamar-egg-scramble-jamboree-over-easy/
LOCATION:Main Street\, 117 Main St\, Lamar\, SC\, 29069
CATEGORIES:Anniversary Celebrations,Lamar Egg Scramble
ATTACH;FMTTYPE=image/png:https://lamarsc.org/wp-content/uploads/2022/02/egg-scramble-jamboree-2022.png
END:VEVENT
END:VCALENDAR