BEGIN:VCALENDAR
VERSION:2.0
PRODID:-//Town of Lamar - ECPv6.15.11//NONSGML v1.0//EN
CALSCALE:GREGORIAN
METHOD:PUBLISH
X-ORIGINAL-URL:https://lamarsc.org
X-WR-CALDESC:Events for Town of Lamar
REFRESH-INTERVAL;VALUE=DURATION:PT1H
X-Robots-Tag:noindex
X-PUBLISHED-TTL:PT1H
BEGIN:VTIMEZONE
TZID:America/New_York
BEGIN:DAYLIGHT
TZOFFSETFROM:-0500
TZOFFSETTO:-0400
TZNAME:EDT
DTSTART:20210314T070000
END:DAYLIGHT
BEGIN:STANDARD
TZOFFSETFROM:-0400
TZOFFSETTO:-0500
TZNAME:EST
DTSTART:20211107T060000
END:STANDARD
BEGIN:DAYLIGHT
TZOFFSETFROM:-0500
TZOFFSETTO:-0400
TZNAME:EDT
DTSTART:20220313T070000
END:DAYLIGHT
BEGIN:STANDARD
TZOFFSETFROM:-0400
TZOFFSETTO:-0500
TZNAME:EST
DTSTART:20221106T060000
END:STANDARD
BEGIN:DAYLIGHT
TZOFFSETFROM:-0500
TZOFFSETTO:-0400
TZNAME:EDT
DTSTART:20230312T070000
END:DAYLIGHT
BEGIN:STANDARD
TZOFFSETFROM:-0400
TZOFFSETTO:-0500
TZNAME:EST
DTSTART:20231105T060000
END:STANDARD
END:VTIMEZONE
BEGIN:VEVENT
DTSTART;TZID=America/New_York:20220521T100000
DTEND;TZID=America/New_York:20220521T130000
DTSTAMP:20260423T191132
CREATED:20220513T162425Z
LAST-MODIFIED:20220513T162425Z
UID:5641-1653127200-1653138000@lamarsc.org
SUMMARY:Community Action Celebration
DESCRIPTION:[vc_row][vc_column][vc_column_text]\nCome Celebrate Community Action Month on Saturday\, May 21st from 10am to 1pm at the DCCAA Main Office!\n[/vc_column_text][vc_single_image image=”5642″ img_size=”full”][vc_column_text]DCCAA will be assisting with utility bills\, gas bills\, water bills and providing rental assistance. \nFree refreshments will be provided as well as food giveaways from Harvest Hope![/vc_column_text][/vc_column][/vc_row][vc_row][vc_column][vc_empty_space height=”42px”][/vc_column][/vc_row]\nShare
URL:https://lamarsc.org/event/community-action-celebration/
LOCATION:Darlington County Community Action Agency\, 325 W. Washington St.\, Hartsville\, SC\, United States
CATEGORIES:Hartsville Event
ATTACH;FMTTYPE=image/png:https://lamarsc.org/wp-content/uploads/2022/05/DCAA-community-action-celebration.png
END:VEVENT
END:VCALENDAR