BEGIN:VCALENDAR
VERSION:2.0
PRODID:-//Town of Lamar - ECPv6.15.11//NONSGML v1.0//EN
CALSCALE:GREGORIAN
METHOD:PUBLISH
X-ORIGINAL-URL:https://lamarsc.org
X-WR-CALDESC:Events for Town of Lamar
REFRESH-INTERVAL;VALUE=DURATION:PT1H
X-Robots-Tag:noindex
X-PUBLISHED-TTL:PT1H
BEGIN:VTIMEZONE
TZID:America/New_York
BEGIN:DAYLIGHT
TZOFFSETFROM:-0500
TZOFFSETTO:-0400
TZNAME:EDT
DTSTART:20210314T070000
END:DAYLIGHT
BEGIN:STANDARD
TZOFFSETFROM:-0400
TZOFFSETTO:-0500
TZNAME:EST
DTSTART:20211107T060000
END:STANDARD
BEGIN:DAYLIGHT
TZOFFSETFROM:-0500
TZOFFSETTO:-0400
TZNAME:EDT
DTSTART:20220313T070000
END:DAYLIGHT
BEGIN:STANDARD
TZOFFSETFROM:-0400
TZOFFSETTO:-0500
TZNAME:EST
DTSTART:20221106T060000
END:STANDARD
BEGIN:DAYLIGHT
TZOFFSETFROM:-0500
TZOFFSETTO:-0400
TZNAME:EDT
DTSTART:20230312T070000
END:DAYLIGHT
BEGIN:STANDARD
TZOFFSETFROM:-0400
TZOFFSETTO:-0500
TZNAME:EST
DTSTART:20231105T060000
END:STANDARD
END:VTIMEZONE
BEGIN:VEVENT
DTSTART;TZID=America/New_York:20220609T180000
DTEND;TZID=America/New_York:20220609T180000
DTSTAMP:20260423T023716
CREATED:20220608T205252Z
LAST-MODIFIED:20220610T192247Z
UID:5724-1654797600-1654797600@lamarsc.org
SUMMARY:Town Council Budget Workshop
DESCRIPTION:[vc_row][vc_column][vc_column_text]\nLamar Town Council is holding a Budget Workshop meeting on June 9\, 2022 @ 6 PM at Town Hall.\nThe public is welcome to attend. \n[/vc_column_text][/vc_column][/vc_row]\nShare
URL:https://lamarsc.org/event/town-council-budget-workshop/
LOCATION:Town Hall\, 117 Main St\, Lamar\, SC\, 29069\, United States
CATEGORIES:Council Meeting,Town Events
ATTACH;FMTTYPE=image/jpeg:https://lamarsc.org/wp-content/uploads/2016/01/Town-Hall-3.jpg
END:VEVENT
END:VCALENDAR