BEGIN:VCALENDAR
VERSION:2.0
PRODID:-//Town of Lamar - ECPv6.15.11//NONSGML v1.0//EN
CALSCALE:GREGORIAN
METHOD:PUBLISH
X-ORIGINAL-URL:https://lamarsc.org
X-WR-CALDESC:Events for Town of Lamar
REFRESH-INTERVAL;VALUE=DURATION:PT1H
X-Robots-Tag:noindex
X-PUBLISHED-TTL:PT1H
BEGIN:VTIMEZONE
TZID:America/New_York
BEGIN:DAYLIGHT
TZOFFSETFROM:-0500
TZOFFSETTO:-0400
TZNAME:EDT
DTSTART:20210314T070000
END:DAYLIGHT
BEGIN:STANDARD
TZOFFSETFROM:-0400
TZOFFSETTO:-0500
TZNAME:EST
DTSTART:20211107T060000
END:STANDARD
BEGIN:DAYLIGHT
TZOFFSETFROM:-0500
TZOFFSETTO:-0400
TZNAME:EDT
DTSTART:20220313T070000
END:DAYLIGHT
BEGIN:STANDARD
TZOFFSETFROM:-0400
TZOFFSETTO:-0500
TZNAME:EST
DTSTART:20221106T060000
END:STANDARD
BEGIN:DAYLIGHT
TZOFFSETFROM:-0500
TZOFFSETTO:-0400
TZNAME:EDT
DTSTART:20230312T070000
END:DAYLIGHT
BEGIN:STANDARD
TZOFFSETFROM:-0400
TZOFFSETTO:-0500
TZNAME:EST
DTSTART:20231105T060000
END:STANDARD
END:VTIMEZONE
BEGIN:VEVENT
DTSTART;TZID=America/New_York:20220716T110000
DTEND;TZID=America/New_York:20220716T140000
DTSTAMP:20260422T221122
CREATED:20220627T131453Z
LAST-MODIFIED:20220627T131453Z
UID:5798-1657969200-1657980000@lamarsc.org
SUMMARY:Salute To The Troops
DESCRIPTION:[vc_row][vc_column][vc_column_text]\nThe Lamar American Legion Post 94 is hosting a Salute to the Troops event in honor of Armed Forces Month.\n[/vc_column_text][vc_empty_space height=”22px”][/vc_column][/vc_row][vc_row][vc_column][vc_column_text]FREE cookout for Active Duty and Veterans. \nHamburgers\, hot dogs\, chips and drinks. \nFor more information\, contact Joe Rosselli @ 570-205-8632. \nSponsored by:  Piggly Wiggly\, Jeffords Insurance\, Civitans\, and Pepsi.[/vc_column_text][/vc_column][/vc_row][vc_row][vc_column][vc_empty_space][/vc_column][/vc_row]\nShare
URL:https://lamarsc.org/event/salute-to-the-troops/
LOCATION:Lamar American Legion Post 94\, 323 Warren Ave\, Lamar\, SC\, United States
CATEGORIES:Anniversary Celebrations,Town Events
ATTACH;FMTTYPE=image/png:https://lamarsc.org/wp-content/uploads/2022/06/Salute-to-the-Troops-071622.png
END:VEVENT
END:VCALENDAR