BEGIN:VCALENDAR
VERSION:2.0
PRODID:-//Town of Lamar - ECPv6.15.11//NONSGML v1.0//EN
CALSCALE:GREGORIAN
METHOD:PUBLISH
X-WR-CALNAME:Town of Lamar
X-ORIGINAL-URL:https://lamarsc.org
X-WR-CALDESC:Events for Town of Lamar
REFRESH-INTERVAL;VALUE=DURATION:PT1H
X-Robots-Tag:noindex
X-PUBLISHED-TTL:PT1H
BEGIN:VTIMEZONE
TZID:America/New_York
BEGIN:DAYLIGHT
TZOFFSETFROM:-0500
TZOFFSETTO:-0400
TZNAME:EDT
DTSTART:20220313T070000
END:DAYLIGHT
BEGIN:STANDARD
TZOFFSETFROM:-0400
TZOFFSETTO:-0500
TZNAME:EST
DTSTART:20221106T060000
END:STANDARD
BEGIN:DAYLIGHT
TZOFFSETFROM:-0500
TZOFFSETTO:-0400
TZNAME:EDT
DTSTART:20230312T070000
END:DAYLIGHT
BEGIN:STANDARD
TZOFFSETFROM:-0400
TZOFFSETTO:-0500
TZNAME:EST
DTSTART:20231105T060000
END:STANDARD
BEGIN:DAYLIGHT
TZOFFSETFROM:-0500
TZOFFSETTO:-0400
TZNAME:EDT
DTSTART:20240310T070000
END:DAYLIGHT
BEGIN:STANDARD
TZOFFSETFROM:-0400
TZOFFSETTO:-0500
TZNAME:EST
DTSTART:20241103T060000
END:STANDARD
END:VTIMEZONE
BEGIN:VEVENT
DTSTART;TZID=America/New_York:20230308T170000
DTEND;TZID=America/New_York:20230308T190000
DTSTAMP:20260421T083613
CREATED:20230303T191317Z
LAST-MODIFIED:20230303T191317Z
UID:6405-1678294800-1678302000@lamarsc.org
SUMMARY:DCFS But First\, Cafe
DESCRIPTION:[vc_row][vc_column][vc_column_text]\nDarlington County First Steps invites you to an online Parent Café!\nBut First\, Café[/vc_column_text][vc_single_image image=”6406″ img_size=”full”][vc_empty_space][/vc_column][/vc_row]\nShare
URL:https://lamarsc.org/event/dcfs-but-first-cafe/
CATEGORIES:Darlington Event
ATTACH;FMTTYPE=image/png:https://lamarsc.org/wp-content/uploads/2023/03/but-first-cafe.png
END:VEVENT
END:VCALENDAR