BEGIN:VCALENDAR
VERSION:2.0
PRODID:-//Town of Lamar - ECPv6.15.11//NONSGML v1.0//EN
CALSCALE:GREGORIAN
METHOD:PUBLISH
X-ORIGINAL-URL:https://lamarsc.org
X-WR-CALDESC:Events for Town of Lamar
REFRESH-INTERVAL;VALUE=DURATION:PT1H
X-Robots-Tag:noindex
X-PUBLISHED-TTL:PT1H
BEGIN:VTIMEZONE
TZID:America/New_York
BEGIN:DAYLIGHT
TZOFFSETFROM:-0500
TZOFFSETTO:-0400
TZNAME:EDT
DTSTART:20240310T070000
END:DAYLIGHT
BEGIN:STANDARD
TZOFFSETFROM:-0400
TZOFFSETTO:-0500
TZNAME:EST
DTSTART:20241103T060000
END:STANDARD
BEGIN:DAYLIGHT
TZOFFSETFROM:-0500
TZOFFSETTO:-0400
TZNAME:EDT
DTSTART:20250309T070000
END:DAYLIGHT
BEGIN:STANDARD
TZOFFSETFROM:-0400
TZOFFSETTO:-0500
TZNAME:EST
DTSTART:20251102T060000
END:STANDARD
BEGIN:DAYLIGHT
TZOFFSETFROM:-0500
TZOFFSETTO:-0400
TZNAME:EDT
DTSTART:20260308T070000
END:DAYLIGHT
BEGIN:STANDARD
TZOFFSETFROM:-0400
TZOFFSETTO:-0500
TZNAME:EST
DTSTART:20261101T060000
END:STANDARD
END:VTIMEZONE
BEGIN:VEVENT
DTSTART;TZID=America/New_York:20250503T090000
DTEND;TZID=America/New_York:20250503T150000
DTSTAMP:20260425T062819
CREATED:20250423T235747Z
LAST-MODIFIED:20250423T235747Z
UID:8594-1746262800-1746284400@lamarsc.org
SUMMARY:American Legion Post 94 Indoor Yard Sale
DESCRIPTION:  \nChicken Bog Plates $10 each \n2 Quart Soup $8 (varieties available) \nTable Rental $10 \nTables are LIMITED \nFor more information\, contact 570-205-8632 \nAll proceeds go to the refurbishment of the American Legion Hall \nShare
URL:https://lamarsc.org/event/american-legion-post-94-indoor-yard-sale/
LOCATION:Lamar American Legion Post 94\, 323 Warren Ave\, Lamar\, SC\, United States
CATEGORIES:Town Events
ATTACH;FMTTYPE=image/png:https://lamarsc.org/wp-content/uploads/2025/04/American-Legion-Post-Yard-sale-Chicken-Bog-May-3-2025.png
END:VEVENT
END:VCALENDAR