BEGIN:VCALENDAR
VERSION:2.0
PRODID:-//Town of Lamar - ECPv6.15.11//NONSGML v1.0//EN
CALSCALE:GREGORIAN
METHOD:PUBLISH
X-WR-CALNAME:Town of Lamar
X-ORIGINAL-URL:https://lamarsc.org
X-WR-CALDESC:Events for Town of Lamar
REFRESH-INTERVAL;VALUE=DURATION:PT1H
X-Robots-Tag:noindex
X-PUBLISHED-TTL:PT1H
BEGIN:VTIMEZONE
TZID:America/New_York
BEGIN:DAYLIGHT
TZOFFSETFROM:-0500
TZOFFSETTO:-0400
TZNAME:EDT
DTSTART:20240310T070000
END:DAYLIGHT
BEGIN:STANDARD
TZOFFSETFROM:-0400
TZOFFSETTO:-0500
TZNAME:EST
DTSTART:20241103T060000
END:STANDARD
BEGIN:DAYLIGHT
TZOFFSETFROM:-0500
TZOFFSETTO:-0400
TZNAME:EDT
DTSTART:20250309T070000
END:DAYLIGHT
BEGIN:STANDARD
TZOFFSETFROM:-0400
TZOFFSETTO:-0500
TZNAME:EST
DTSTART:20251102T060000
END:STANDARD
BEGIN:DAYLIGHT
TZOFFSETFROM:-0500
TZOFFSETTO:-0400
TZNAME:EDT
DTSTART:20260308T070000
END:DAYLIGHT
BEGIN:STANDARD
TZOFFSETFROM:-0400
TZOFFSETTO:-0500
TZNAME:EST
DTSTART:20261101T060000
END:STANDARD
END:VTIMEZONE
BEGIN:VEVENT
DTSTART;VALUE=DATE:20251013
DTEND;VALUE=DATE:20251014
DTSTAMP:20260422T205656
CREATED:20250120T220610Z
LAST-MODIFIED:20250120T220610Z
UID:8413-1760313600-1760399999@lamarsc.org
SUMMARY:Indigenous Peoples Day - Columbus Day
DESCRIPTION:The town offices will be closed in observance of the holiday\, and will reopen October 14\, 2025. Trash collection will be the 14th and 17th. \nShare
URL:https://lamarsc.org/event/indigenous-peoples-day-columbus-day/
CATEGORIES:Town Events
END:VEVENT
BEGIN:VEVENT
DTSTART;TZID=America/New_York:20251013T181500
DTEND;TZID=America/New_York:20251013T191500
DTSTAMP:20260422T205656
CREATED:20250108T142256Z
LAST-MODIFIED:20250108T142256Z
UID:8342-1760379300-1760382900@lamarsc.org
SUMMARY:Lamar Town Council Meeting
DESCRIPTION:Lamar Town Council meets the second Monday of every month at 6:15 p.m.   The public is welcome to attend. \nYou may visit the Town of Lamar Facebook page to view live Council Meetings.  Click here. \nMeeting minutes and agendas may be found here. \nShare
URL:https://lamarsc.org/event/lamar-town-council-meeting-14/
LOCATION:Town Hall\, 117 Main St\, Lamar\, SC\, 29069\, United States
CATEGORIES:Council Meeting
ATTACH;FMTTYPE=image/jpeg:https://lamarsc.org/wp-content/uploads/2016/01/Town-Hall-2.jpg
END:VEVENT
END:VCALENDAR