BEGIN:VCALENDAR
VERSION:2.0
PRODID:-//Town of Lamar - ECPv6.15.11//NONSGML v1.0//EN
CALSCALE:GREGORIAN
METHOD:PUBLISH
X-WR-CALNAME:Town of Lamar
X-ORIGINAL-URL:https://lamarsc.org
X-WR-CALDESC:Events for Town of Lamar
REFRESH-INTERVAL;VALUE=DURATION:PT1H
X-Robots-Tag:noindex
X-PUBLISHED-TTL:PT1H
BEGIN:VTIMEZONE
TZID:America/New_York
BEGIN:DAYLIGHT
TZOFFSETFROM:-0500
TZOFFSETTO:-0400
TZNAME:EDT
DTSTART:20240310T070000
END:DAYLIGHT
BEGIN:STANDARD
TZOFFSETFROM:-0400
TZOFFSETTO:-0500
TZNAME:EST
DTSTART:20241103T060000
END:STANDARD
BEGIN:DAYLIGHT
TZOFFSETFROM:-0500
TZOFFSETTO:-0400
TZNAME:EDT
DTSTART:20250309T070000
END:DAYLIGHT
BEGIN:STANDARD
TZOFFSETFROM:-0400
TZOFFSETTO:-0500
TZNAME:EST
DTSTART:20251102T060000
END:STANDARD
BEGIN:DAYLIGHT
TZOFFSETFROM:-0500
TZOFFSETTO:-0400
TZNAME:EDT
DTSTART:20260308T070000
END:DAYLIGHT
BEGIN:STANDARD
TZOFFSETFROM:-0400
TZOFFSETTO:-0500
TZNAME:EST
DTSTART:20261101T060000
END:STANDARD
END:VTIMEZONE
BEGIN:VEVENT
DTSTART;VALUE=DATE:20251127
DTEND;VALUE=DATE:20251129
DTSTAMP:20260422T205645
CREATED:20250120T232241Z
LAST-MODIFIED:20250120T232241Z
UID:8421-1764201600-1764374399@lamarsc.org
SUMMARY:Thanksgiving Town Hall Closure
DESCRIPTION:Happy Thanksgiving!\n  \nThe Lamar Town Hall will be closed to allow our employees to enjoy the Thanksgiving holidays. \nTrash schedule for Thanksgiving week is: the 24th and 28th \nShare
URL:https://lamarsc.org/event/thanksgiving-town-hall-closure/
CATEGORIES:Town Events
ATTACH;FMTTYPE=image/png:https://lamarsc.org/wp-content/uploads/2025/01/lamar-budget-8.png
END:VEVENT
BEGIN:VEVENT
DTSTART;TZID=America/New_York:20251127T180000
DTEND;TZID=America/New_York:20251127T210000
DTSTAMP:20260422T205645
CREATED:20251103T172603Z
LAST-MODIFIED:20251103T185906Z
UID:8910-1764266400-1764277200@lamarsc.org
SUMMARY:Christmas Tree Lighting
DESCRIPTION:Town of Lamar Christmas Tree Lighting\nJoin the Town of Lamar for a heartwarming start to the holiday season with their annual Christmas Tree Lighting ceremony on Thanksgiving night!\nGather with family and friends for an evening of festive cheer:\n\nChristmas Carols: Sing along to beloved holiday tunes that will fill the air with joy.\nSpecial Appearance by Santa: A magical visit from Santa Claus himself to greet the children and help light the tree.\n\nEvent Details:\n\nDate: Thanksgiving Night (November 27th\, 2025)\nTime: 6:00 PM\n\nCome share in the magic and start a cherished holiday tradition!\nShare
URL:https://lamarsc.org/event/christmas-tree-lighting/
CATEGORIES:Town Events
ATTACH;FMTTYPE=image/png:https://lamarsc.org/wp-content/uploads/2025/11/Christmas-Tree-Lighting-2025-FB.png
END:VEVENT
END:VCALENDAR