BEGIN:VCALENDAR
VERSION:2.0
PRODID:-//Town of Lamar - ECPv6.15.11//NONSGML v1.0//EN
CALSCALE:GREGORIAN
METHOD:PUBLISH
X-WR-CALNAME:Town of Lamar
X-ORIGINAL-URL:https://lamarsc.org
X-WR-CALDESC:Events for Town of Lamar
REFRESH-INTERVAL;VALUE=DURATION:PT1H
X-Robots-Tag:noindex
X-PUBLISHED-TTL:PT1H
BEGIN:VTIMEZONE
TZID:America/New_York
BEGIN:DAYLIGHT
TZOFFSETFROM:-0500
TZOFFSETTO:-0400
TZNAME:EDT
DTSTART:20250309T070000
END:DAYLIGHT
BEGIN:STANDARD
TZOFFSETFROM:-0400
TZOFFSETTO:-0500
TZNAME:EST
DTSTART:20251102T060000
END:STANDARD
BEGIN:DAYLIGHT
TZOFFSETFROM:-0500
TZOFFSETTO:-0400
TZNAME:EDT
DTSTART:20260308T070000
END:DAYLIGHT
BEGIN:STANDARD
TZOFFSETFROM:-0400
TZOFFSETTO:-0500
TZNAME:EST
DTSTART:20261101T060000
END:STANDARD
BEGIN:DAYLIGHT
TZOFFSETFROM:-0500
TZOFFSETTO:-0400
TZNAME:EDT
DTSTART:20270314T070000
END:DAYLIGHT
BEGIN:STANDARD
TZOFFSETFROM:-0400
TZOFFSETTO:-0500
TZNAME:EST
DTSTART:20271107T060000
END:STANDARD
END:VTIMEZONE
BEGIN:VEVENT
DTSTART;TZID=America/New_York:20260119T090000
DTEND;TZID=America/New_York:20260119T110000
DTSTAMP:20260422T214514
CREATED:20260114T185344Z
LAST-MODIFIED:20260114T185405Z
UID:9017-1768813200-1768820400@lamarsc.org
SUMMARY:Martin Luther King Jr Day Observance Program
DESCRIPTION:The Town of Lamar invites the community to come together for a Martin Luther King Jr. Day Observance Program on Monday\, January 19\, 2026\, at 9:00 AM. \nThe program will be held at Bethany Baptist Church\, located at 205 W. Pearl Street in Lamar\, and will honor the life\, legacy\, and enduring message of Dr. Martin Luther King Jr. \nThis year’s observance will feature a keynote address by Rev. Amari B. Hooker\, Pastor of the Wesley Chapel / Lake City UMC Charge\, offering reflections on service\, unity\, and justice. The program will also include a special musical presentation by violinist Tyquan Coe\, adding a meaningful artistic element to the morning. \nResidents\, families\, and visitors are encouraged to attend this reflective and inspiring event as the Town of Lamar commemorates MLK Day and continues the call to build a stronger\, more inclusive community. \nShare
URL:https://lamarsc.org/event/martin-luther-king-jr-day-observance-program/
LOCATION:Bethany Baptist Church\, 205 W. Pearl St.\, Lamar\, SC\, United States
CATEGORIES:Town Events
END:VEVENT
END:VCALENDAR