BEGIN:VCALENDAR
VERSION:2.0
PRODID:-//Town of Lamar - ECPv6.15.11//NONSGML v1.0//EN
CALSCALE:GREGORIAN
METHOD:PUBLISH
X-WR-CALNAME:Town of Lamar
X-ORIGINAL-URL:https://lamarsc.org
X-WR-CALDESC:Events for Town of Lamar
REFRESH-INTERVAL;VALUE=DURATION:PT1H
X-Robots-Tag:noindex
X-PUBLISHED-TTL:PT1H
BEGIN:VTIMEZONE
TZID:America/New_York
BEGIN:DAYLIGHT
TZOFFSETFROM:-0500
TZOFFSETTO:-0400
TZNAME:EDT
DTSTART:20230312T070000
END:DAYLIGHT
BEGIN:STANDARD
TZOFFSETFROM:-0400
TZOFFSETTO:-0500
TZNAME:EST
DTSTART:20231105T060000
END:STANDARD
BEGIN:DAYLIGHT
TZOFFSETFROM:-0500
TZOFFSETTO:-0400
TZNAME:EDT
DTSTART:20240310T070000
END:DAYLIGHT
BEGIN:STANDARD
TZOFFSETFROM:-0400
TZOFFSETTO:-0500
TZNAME:EST
DTSTART:20241103T060000
END:STANDARD
BEGIN:DAYLIGHT
TZOFFSETFROM:-0500
TZOFFSETTO:-0400
TZNAME:EDT
DTSTART:20250309T070000
END:DAYLIGHT
BEGIN:STANDARD
TZOFFSETFROM:-0400
TZOFFSETTO:-0500
TZNAME:EST
DTSTART:20251102T060000
END:STANDARD
END:VTIMEZONE
BEGIN:VEVENT
DTSTART;TZID=America/New_York:20240604T083000
DTEND;TZID=America/New_York:20240604T120000
DTSTAMP:20260421T165118
CREATED:20240528T172040Z
LAST-MODIFIED:20240528T172040Z
UID:7523-1717489800-1717502400@lamarsc.org
SUMMARY:Produce Vouchers for Seniors
DESCRIPTION:Tuesday\, June 4\, Spaulding Middle School\, \n400 Cartersville Hwy.\, Lamar\n8:30 AM to 12 PM\n  \nIndividuals must be age 60 or older. Each\neligible person will receive $50 worth of\ncoupons that may be used at participating\nmarkets through October 15\, 2024. The\ncoupons will be issued on a first come first\nserved basis until supply is exhausted.\nIncome guidelines/limits apply.\nShare
URL:https://lamarsc.org/event/produce-vouchers-for-seniors/
LOCATION:Spaulding Middle School\, 400 Cartersville Hwy.\, Lamar\, SC\, 29069
CATEGORIES:Darlington Event,Town Events
ATTACH;FMTTYPE=image/png:https://lamarsc.org/wp-content/uploads/2024/05/Produce-Vouchers-For-Seniors-1.png
END:VEVENT
END:VCALENDAR