BEGIN:VCALENDAR
VERSION:2.0
PRODID:-//Town of Lamar - ECPv6.15.11//NONSGML v1.0//EN
CALSCALE:GREGORIAN
METHOD:PUBLISH
X-ORIGINAL-URL:https://lamarsc.org
X-WR-CALDESC:Events for Town of Lamar
REFRESH-INTERVAL;VALUE=DURATION:PT1H
X-Robots-Tag:noindex
X-PUBLISHED-TTL:PT1H
BEGIN:VTIMEZONE
TZID:America/New_York
BEGIN:DAYLIGHT
TZOFFSETFROM:-0500
TZOFFSETTO:-0400
TZNAME:EDT
DTSTART:20210314T070000
END:DAYLIGHT
BEGIN:STANDARD
TZOFFSETFROM:-0400
TZOFFSETTO:-0500
TZNAME:EST
DTSTART:20211107T060000
END:STANDARD
BEGIN:DAYLIGHT
TZOFFSETFROM:-0500
TZOFFSETTO:-0400
TZNAME:EDT
DTSTART:20220313T070000
END:DAYLIGHT
BEGIN:STANDARD
TZOFFSETFROM:-0400
TZOFFSETTO:-0500
TZNAME:EST
DTSTART:20221106T060000
END:STANDARD
BEGIN:DAYLIGHT
TZOFFSETFROM:-0500
TZOFFSETTO:-0400
TZNAME:EDT
DTSTART:20230312T070000
END:DAYLIGHT
BEGIN:STANDARD
TZOFFSETFROM:-0400
TZOFFSETTO:-0500
TZNAME:EST
DTSTART:20231105T060000
END:STANDARD
BEGIN:DAYLIGHT
TZOFFSETFROM:-0500
TZOFFSETTO:-0400
TZNAME:EDT
DTSTART:20240310T070000
END:DAYLIGHT
BEGIN:STANDARD
TZOFFSETFROM:-0400
TZOFFSETTO:-0500
TZNAME:EST
DTSTART:20241103T060000
END:STANDARD
BEGIN:DAYLIGHT
TZOFFSETFROM:-0500
TZOFFSETTO:-0400
TZNAME:EDT
DTSTART:20250309T070000
END:DAYLIGHT
BEGIN:STANDARD
TZOFFSETFROM:-0400
TZOFFSETTO:-0500
TZNAME:EST
DTSTART:20251102T060000
END:STANDARD
BEGIN:DAYLIGHT
TZOFFSETFROM:-0500
TZOFFSETTO:-0400
TZNAME:EDT
DTSTART:20260308T070000
END:DAYLIGHT
BEGIN:STANDARD
TZOFFSETFROM:-0400
TZOFFSETTO:-0500
TZNAME:EST
DTSTART:20261101T060000
END:STANDARD
END:VTIMEZONE
BEGIN:VEVENT
DTSTART;TZID=America/New_York:20250405T110000
DTEND;TZID=America/New_York:20250405T110000
DTSTAMP:20260421T215645
CREATED:20250108T152337Z
LAST-MODIFIED:20250108T152337Z
UID:8374-1743850800-1743850800@lamarsc.org
SUMMARY:2025 Lamar Egg Scramble Day Parade
DESCRIPTION:Day Parade\, Saturday\, April 5\, 2025:\nLine up 10 a.m. at Lamar High School\nParade begins at 11 a.m.\nNo entry fee \nShare
URL:https://lamarsc.org/event/2025-lamar-egg-scramble-day-parade/
CATEGORIES:Lamar Egg Scramble,Town Events
ATTACH;FMTTYPE=image/png:https://lamarsc.org/wp-content/uploads/2021/03/LES-Egg-Logo-1.png
END:VEVENT
BEGIN:VEVENT
DTSTART;VALUE=DATE:20250405
DTEND;VALUE=DATE:20250406
DTSTAMP:20260421T215645
CREATED:20250108T153009Z
LAST-MODIFIED:20250108T153009Z
UID:8376-1743811200-1743897599@lamarsc.org
SUMMARY:2025 Lamar Egg Scramble
DESCRIPTION:We kick off Saturday with the parade!  Parade starts at 11 a.m.  Line up at Lamar High School at 10 a.m.\nCome down to the Gospel Stage from 1 p.m. – 4 p.m.\nEntertainment on the Main Stage from 12 p.m. – 7 p.m.\nVendors will be along Railroad Ave. all day until 8:30 p.m. \nSee you there!! \nShare
URL:https://lamarsc.org/event/2025-lamar-egg-scramble/
CATEGORIES:Lamar Egg Scramble,Town Events
ATTACH;FMTTYPE=image/jpeg:https://lamarsc.org/wp-content/uploads/2021/03/1-DSCN0132 (1).jpg
END:VEVENT
BEGIN:VEVENT
DTSTART;TZID=America/New_York:20250329T170000
DTEND;TZID=America/New_York:20250329T180000
DTSTAMP:20260421T215645
CREATED:20250108T145814Z
LAST-MODIFIED:20250108T145814Z
UID:8370-1743267600-1743271200@lamarsc.org
SUMMARY:Taste Of Lamar
DESCRIPTION:Share
URL:https://lamarsc.org/event/taste-of-lamar/
LOCATION:Spaulding Middle School\, 400 Cartersville Hwy.\, Lamar\, SC\, 29069
CATEGORIES:Lamar Egg Scramble,Town Events
ATTACH;FMTTYPE=image/jpeg:https://lamarsc.org/wp-content/uploads/2019/02/taste-of-lamar-2.jpg
END:VEVENT
BEGIN:VEVENT
DTSTART;TZID=America/New_York:20240405T140000
DTEND;TZID=America/New_York:20240406T203000
DTSTAMP:20260421T215645
CREATED:20240129T193357Z
LAST-MODIFIED:20240129T193357Z
UID:7229-1712325600-1712435400@lamarsc.org
SUMMARY:2024 Egg Scramble Jamboree Festival
DESCRIPTION:[vc_row][vc_column][vc_column_text]Join us as we celebrate the 40th Egg Scramble Jamboree! \nLearn more about the weekend’s events and access applications for the parade & vendor booths.\nAs more events are planned\, we will update the Lamar Egg Scramble Jamboree web page. \nClick here! \n[/vc_column_text][/vc_column][/vc_row][vc_row][vc_column][vc_empty_space height=”42px”][/vc_column][/vc_row]\nShare
URL:https://lamarsc.org/event/2024-egg-scramble-jamboree-festival/
LOCATION:Main Street\, 117 Main St\, Lamar\, SC\, 29069
CATEGORIES:Lamar Egg Scramble,Town Events
ATTACH;FMTTYPE=image/png:https://lamarsc.org/wp-content/uploads/2024/01/Egg-Scramble-Jamboree-2024-1.png
END:VEVENT
BEGIN:VEVENT
DTSTART;VALUE=DATE:20230401
DTEND;VALUE=DATE:20230402
DTSTAMP:20260421T215645
CREATED:20221205T170422Z
LAST-MODIFIED:20230327T175415Z
UID:6186-1680307200-1680393599@lamarsc.org
SUMMARY:2023 Egg Scramble Jamboree Festival
DESCRIPTION:[vc_row][vc_column][vc_column_text]Come down to Main Street in Lamar for the Egg Scramble Jamboree Festival!  This is an all-day festival full of food\, vendors and family fun! \nCheck out the Egg Scramble page for more details as the event as planned.  You may also access applications here. \n2023 Egg Scramble Jamboree[/vc_column_text][vc_empty_space height=”42px”][/vc_column][/vc_row]\nShare
URL:https://lamarsc.org/event/2023-egg-scramble-jamboree-festival/
LOCATION:Main Street\, 117 Main St\, Lamar\, SC\, 29069
CATEGORIES:Lamar Egg Scramble
ATTACH;FMTTYPE=image/png:https://lamarsc.org/wp-content/uploads/2022/12/2023-EGG-SCRAMBLE-JAMBOREE-FESTIVAL.png
END:VEVENT
BEGIN:VEVENT
DTSTART;VALUE=DATE:20220402
DTEND;VALUE=DATE:20220403
DTSTAMP:20260421T215645
CREATED:20220209T160840Z
LAST-MODIFIED:20220314T153335Z
UID:5262-1648857600-1648943999@lamarsc.org
SUMMARY:2022 Lamar Egg Scramble Jamboree Over Easy
DESCRIPTION:[vc_row][vc_column]\nThe Lamar Egg Scramble Jamboree committee has great news!!\n[/vc_column][/vc_row][vc_row][vc_column][vc_column_text]\nThe Egg Scramble will be back in swing for 2022 with a one-day event\, “Egg Scramble Jamboree Over Easy.”\nFor latest news on the day’s festivities\, check out our Egg Scramble page.  For details or questions\, you may call 843-942-9327 and leave a message.  All calls will be returned after 5pm.\n[/vc_column_text][vc_empty_space height=”42px”][/vc_column][/vc_row]\nShare
URL:https://lamarsc.org/event/2022-lamar-egg-scramble-jamboree-over-easy/
LOCATION:Main Street\, 117 Main St\, Lamar\, SC\, 29069
CATEGORIES:Anniversary Celebrations,Lamar Egg Scramble
ATTACH;FMTTYPE=image/png:https://lamarsc.org/wp-content/uploads/2022/02/egg-scramble-jamboree-2022.png
END:VEVENT
END:VCALENDAR