BEGIN:VCALENDAR
VERSION:2.0
PRODID:-//Town of Lamar - ECPv6.15.11//NONSGML v1.0//EN
CALSCALE:GREGORIAN
METHOD:PUBLISH
X-ORIGINAL-URL:https://lamarsc.org
X-WR-CALDESC:Events for Town of Lamar
REFRESH-INTERVAL;VALUE=DURATION:PT1H
X-Robots-Tag:noindex
X-PUBLISHED-TTL:PT1H
BEGIN:VTIMEZONE
TZID:America/New_York
BEGIN:DAYLIGHT
TZOFFSETFROM:-0500
TZOFFSETTO:-0400
TZNAME:EDT
DTSTART:20210314T070000
END:DAYLIGHT
BEGIN:STANDARD
TZOFFSETFROM:-0400
TZOFFSETTO:-0500
TZNAME:EST
DTSTART:20211107T060000
END:STANDARD
BEGIN:DAYLIGHT
TZOFFSETFROM:-0500
TZOFFSETTO:-0400
TZNAME:EDT
DTSTART:20220313T070000
END:DAYLIGHT
BEGIN:STANDARD
TZOFFSETFROM:-0400
TZOFFSETTO:-0500
TZNAME:EST
DTSTART:20221106T060000
END:STANDARD
BEGIN:DAYLIGHT
TZOFFSETFROM:-0500
TZOFFSETTO:-0400
TZNAME:EDT
DTSTART:20230312T070000
END:DAYLIGHT
BEGIN:STANDARD
TZOFFSETFROM:-0400
TZOFFSETTO:-0500
TZNAME:EST
DTSTART:20231105T060000
END:STANDARD
END:VTIMEZONE
BEGIN:VEVENT
DTSTART;VALUE=DATE:20220318
DTEND;VALUE=DATE:20220320
DTSTAMP:20260422T204654
CREATED:20220118T183804Z
LAST-MODIFIED:20220303T194201Z
UID:5214-1647561600-1647734399@lamarsc.org
SUMMARY:Lamar Great American Cleanup
DESCRIPTION:[vc_row][vc_column]\nIt is the Annual Lamar Great American Cleanup!\nOn Friday and Saturday\, March 18 – 19\, the Town is encouraging everyone to join in on the Great American Cleanup.\nAt 12 p.m. on Saturday\, hot dogs\, chips and drinks will be furnished at Town Hall for all volunteers.\nCall Town Hall for your trash pickup: 843-326-5551.   \nSmall tree limbs\, brush\, etc. may be placed by the street for pickup.  Please be sure to cut limbs to accommodate easy pickup.\nLeaves\, straw\, and other small trash must be placed in bags for pickup.[vc_single_image image=”5215″ img_size=”full”][vc_empty_space][/vc_column][/vc_row]\nShare
URL:https://lamarsc.org/event/lamar-great-american-cleanup/
CATEGORIES:Town Events
ATTACH;FMTTYPE=image/png:https://lamarsc.org/wp-content/uploads/2022/01/great-american-cleanup-2022.png
END:VEVENT
BEGIN:VEVENT
DTSTART;TZID=America/New_York:20220319T090000
DTEND;TZID=America/New_York:20220319T110000
DTSTAMP:20260422T204654
CREATED:20220316T150612Z
LAST-MODIFIED:20220316T150612Z
UID:5449-1647680400-1647687600@lamarsc.org
SUMMARY:Clothes Giveaway
DESCRIPTION:[vc_row][vc_column][vc_column_text]\nCome out to Bethany Baptist Church in Lamar for a FREE CLOTHES GIVEAWAY!!!\n[/vc_column_text][vc_empty_space height=”42px”][vc_single_image image=”5450″ img_size=”large”][vc_empty_space height=”42px”][/vc_column][/vc_row]\nShare
URL:https://lamarsc.org/event/clothes-giveaway/
LOCATION:Bethany Baptist Church\, 205 W. Pearl St.\, Lamar\, SC\, United States
CATEGORIES:Town Events
ATTACH;FMTTYPE=image/png:https://lamarsc.org/wp-content/uploads/2022/03/CLOTHES-GIVEAWAY-2.png
END:VEVENT
BEGIN:VEVENT
DTSTART;TZID=America/New_York:20220325T110000
DTEND;TZID=America/New_York:20220325T190000
DTSTAMP:20260422T204654
CREATED:20220303T193250Z
LAST-MODIFIED:20220316T150649Z
UID:5392-1648206000-1648234800@lamarsc.org
SUMMARY:Lamar Dixie Youth Baseball Fundraiser
DESCRIPTION:[vc_row][vc_column][vc_column_text]The Lamar Dixie Youth Baseball Chicken Bog Fundraiser will be held Friday\, March 25\, 2022 from 11 a.m. – 7 p.m. \nFree delivery with 10 or more orders \nPlates may be picked up at the Lamar Dixie Youth Concession Stand – 600 Club Dr. Lamar \n$9 per plate[/vc_column_text][/vc_column][/vc_row]\nShare
URL:https://lamarsc.org/event/lamar-dixie-youth-baseball-fundraiser/
LOCATION:Lamar Dixie Youth Concession Stand\, 600 Club Dr\, Lamar\, SC
CATEGORIES:Town Events
ATTACH;FMTTYPE=image/png:https://lamarsc.org/wp-content/uploads/2022/03/dixie-youth-baseball-fundraiser.png
END:VEVENT
END:VCALENDAR