BEGIN:VCALENDAR
VERSION:2.0
PRODID:-//Town of Lamar - ECPv6.15.11//NONSGML v1.0//EN
CALSCALE:GREGORIAN
METHOD:PUBLISH
X-ORIGINAL-URL:https://lamarsc.org
X-WR-CALDESC:Events for Town of Lamar
REFRESH-INTERVAL;VALUE=DURATION:PT1H
X-Robots-Tag:noindex
X-PUBLISHED-TTL:PT1H
BEGIN:VTIMEZONE
TZID:America/New_York
BEGIN:DAYLIGHT
TZOFFSETFROM:-0500
TZOFFSETTO:-0400
TZNAME:EDT
DTSTART:20210314T070000
END:DAYLIGHT
BEGIN:STANDARD
TZOFFSETFROM:-0400
TZOFFSETTO:-0500
TZNAME:EST
DTSTART:20211107T060000
END:STANDARD
BEGIN:DAYLIGHT
TZOFFSETFROM:-0500
TZOFFSETTO:-0400
TZNAME:EDT
DTSTART:20220313T070000
END:DAYLIGHT
BEGIN:STANDARD
TZOFFSETFROM:-0400
TZOFFSETTO:-0500
TZNAME:EST
DTSTART:20221106T060000
END:STANDARD
BEGIN:DAYLIGHT
TZOFFSETFROM:-0500
TZOFFSETTO:-0400
TZNAME:EDT
DTSTART:20230312T070000
END:DAYLIGHT
BEGIN:STANDARD
TZOFFSETFROM:-0400
TZOFFSETTO:-0500
TZNAME:EST
DTSTART:20231105T060000
END:STANDARD
END:VTIMEZONE
BEGIN:VEVENT
DTSTART;TZID=America/New_York:20220403T150000
DTEND;TZID=America/New_York:20220403T160000
DTSTAMP:20260422T185353
CREATED:20220314T152910Z
LAST-MODIFIED:20220314T154256Z
UID:5427-1648998000-1649001600@lamarsc.org
SUMMARY:Community Worship Service
DESCRIPTION:[vc_row][vc_column][vc_column_text]Lamar will be celebrating it’s 150th Anniversary during the month of April. \nThe Town of Lamar will be holding a Community Sesquicentennial Worship Service at Lamar High School Gymnasium on April 3\, 2022. \nLet’s join our family\, friends\, and neighbors for a service of praise and worship through choirs and speakers!![/vc_column_text][vc_empty_space][/vc_column][/vc_row]\nShare
URL:https://lamarsc.org/event/community-worship-service/
LOCATION:Lamar High School\, 216 N Darlington Ave\, Lamar\, SC\, 29069\, United States
CATEGORIES:Anniversary Celebrations,Town Events
ATTACH;FMTTYPE=image/png:https://lamarsc.org/wp-content/uploads/2022/03/150th-anniversary-2.png
END:VEVENT
BEGIN:VEVENT
DTSTART;TZID=America/New_York:20220421T173000
DTEND;TZID=America/New_York:20220421T183000
DTSTAMP:20260422T185353
CREATED:20220411T131522Z
LAST-MODIFIED:20220411T131522Z
UID:5500-1650562200-1650565800@lamarsc.org
SUMMARY:Painting With Utensils
DESCRIPTION:[vc_row][vc_column][vc_column_text]\nJOIN FUN AT THE LIBRARY!!\n[/vc_column_text][vc_single_image image=”5502″ img_size=”full”][vc_empty_space][/vc_column][/vc_row]\nShare
URL:https://lamarsc.org/event/painting-with-utensils/
LOCATION:Lamar Library\, 103 E Main St\, Lamar\, 29069\, United States
CATEGORIES:Town Events
ATTACH;FMTTYPE=image/png:https://lamarsc.org/wp-content/uploads/2022/04/lamar-adult-craft-april-2022-library-feat-img.png
END:VEVENT
BEGIN:VEVENT
DTSTART;TZID=America/New_York:20220423T103000
DTEND;TZID=America/New_York:20220423T130000
DTSTAMP:20260422T185353
CREATED:20220410T173203Z
LAST-MODIFIED:20220411T130329Z
UID:5281-1650709800-1650718800@lamarsc.org
SUMMARY:Lamar Pokemon Club
DESCRIPTION:[vc_row][vc_column]\nJOIN THE FUN AT THE LAMAR LIBRARY!\n[vc_single_image image=”5496″ img_size=”full”][vc_empty_space height=”42px”][/vc_column][/vc_row]\nShare
URL:https://lamarsc.org/event/lamar-pokemon-club/
LOCATION:Lamar Library\, 103 E Main St\, Lamar\, 29069\, United States
CATEGORIES:Town Events
ATTACH;FMTTYPE=image/png:https://lamarsc.org/wp-content/uploads/2022/02/pokemon-club-feat-img-april-2022.png
END:VEVENT
BEGIN:VEVENT
DTSTART;TZID=America/New_York:20220430T110000
DTEND;TZID=America/New_York:20220430T120000
DTSTAMP:20260422T185353
CREATED:20220411T133206Z
LAST-MODIFIED:20220413T142318Z
UID:5504-1651316400-1651320000@lamarsc.org
SUMMARY:Library Book Club
DESCRIPTION:[vc_row][vc_column][vc_column_text]\nCome to the Lamar Library Book Club!  This month:\n[/vc_column_text][vc_single_image image=”5505″ img_size=”full”][vc_empty_space][/vc_column][/vc_row]\nShare
URL:https://lamarsc.org/event/library-book-club/
LOCATION:Lamar Library\, 103 E Main St\, Lamar\, 29069\, United States
CATEGORIES:Town Events
ATTACH;FMTTYPE=image/png:https://lamarsc.org/wp-content/uploads/2022/04/book-club-april-2022-feat-img.png
END:VEVENT
END:VCALENDAR