BEGIN:VCALENDAR
VERSION:2.0
PRODID:-//Town of Lamar - ECPv6.15.11//NONSGML v1.0//EN
CALSCALE:GREGORIAN
METHOD:PUBLISH
X-WR-CALNAME:Town of Lamar
X-ORIGINAL-URL:https://lamarsc.org
X-WR-CALDESC:Events for Town of Lamar
REFRESH-INTERVAL;VALUE=DURATION:PT1H
X-Robots-Tag:noindex
X-PUBLISHED-TTL:PT1H
BEGIN:VTIMEZONE
TZID:America/New_York
BEGIN:DAYLIGHT
TZOFFSETFROM:-0500
TZOFFSETTO:-0400
TZNAME:EDT
DTSTART:20210314T070000
END:DAYLIGHT
BEGIN:STANDARD
TZOFFSETFROM:-0400
TZOFFSETTO:-0500
TZNAME:EST
DTSTART:20211107T060000
END:STANDARD
BEGIN:DAYLIGHT
TZOFFSETFROM:-0500
TZOFFSETTO:-0400
TZNAME:EDT
DTSTART:20220313T070000
END:DAYLIGHT
BEGIN:STANDARD
TZOFFSETFROM:-0400
TZOFFSETTO:-0500
TZNAME:EST
DTSTART:20221106T060000
END:STANDARD
BEGIN:DAYLIGHT
TZOFFSETFROM:-0500
TZOFFSETTO:-0400
TZNAME:EDT
DTSTART:20230312T070000
END:DAYLIGHT
BEGIN:STANDARD
TZOFFSETFROM:-0400
TZOFFSETTO:-0500
TZNAME:EST
DTSTART:20231105T060000
END:STANDARD
END:VTIMEZONE
BEGIN:VEVENT
DTSTART;TZID=America/New_York:20220807T110000
DTEND;TZID=America/New_York:20220807T110000
DTSTAMP:20260421T163849
CREATED:20220728T204834Z
LAST-MODIFIED:20220728T204834Z
UID:5914-1659870000-1659870000@lamarsc.org
SUMMARY:CareSouth Community Meeting
DESCRIPTION:[vc_row][vc_column][vc_column_text]CareSouth Carolina is holding a Community Meeting at Bethany Baptist Church. \nFor more information\, you may reach out to Rev. Emanuel Simon 803-403-6790[/vc_column_text][vc_single_image image=”5915″ img_size=”full”][vc_empty_space height=”42px”][/vc_column][/vc_row]\nShare
URL:https://lamarsc.org/event/caresouth-community-meeting/
LOCATION:Bethany Baptist Church\, 205 W. Pearl St.\, Lamar\, SC\, United States
CATEGORIES:Town Events
ATTACH;FMTTYPE=image/png:https://lamarsc.org/wp-content/uploads/2022/07/CareSouth-Community-Meeting-080722-2.png
END:VEVENT
BEGIN:VEVENT
DTSTART;TZID=America/New_York:20220810T183000
DTEND;TZID=America/New_York:20220810T193000
DTSTAMP:20260421T163849
CREATED:20220809T185526Z
LAST-MODIFIED:20220809T185526Z
UID:5926-1660156200-1660159800@lamarsc.org
SUMMARY:Back To School Giveaway
DESCRIPTION:[vc_row][vc_column][vc_column_text]St.  Mark Pentecostal Holiness Church is hosting a back to school supply giveaway! \nFREE giveaway at the church on Davis Avenue in Lamar.[/vc_column_text][/vc_column][/vc_row][vc_row][vc_column][vc_single_image image=”5927″ img_size=”full”][/vc_column][/vc_row][vc_row][vc_column][vc_empty_space height=”42px”][/vc_column][/vc_row]\nShare
URL:https://lamarsc.org/event/back-to-school-giveaway/
LOCATION:St Mark PHC\, 333 Davis Ave\, Lamar\, SC\, 29069\, United States
CATEGORIES:Town Events
ATTACH;FMTTYPE=image/png:https://lamarsc.org/wp-content/uploads/2022/08/back-to-school-giveaway-feat.png
END:VEVENT
BEGIN:VEVENT
DTSTART;TZID=America/New_York:20220827T100000
DTEND;TZID=America/New_York:20220827T100000
DTSTAMP:20260421T163849
CREATED:20220726T153743Z
LAST-MODIFIED:20220726T153916Z
UID:5883-1661594400-1661594400@lamarsc.org
SUMMARY:Salute to Farmers & Merchants
DESCRIPTION:[vc_row][vc_column][vc_column_text]The fifth Sesquicentennial event celebrating the Town of Lamar’s 150th Anniversary will take place on August 27\, 2022 @ 10 AM on Railroad Avenue. \nWe salute our local farmers and merchants!  Come to Railroad Avenue on Saturday\, the 27th and shake the hand of your neighborhood merchants and farmers! \nThey are necessary for the success and continued existence of Lamar and we salute them![/vc_column_text][/vc_column][/vc_row][vc_row][vc_column][vc_empty_space height=”42px”][/vc_column][/vc_row]\nShare
URL:https://lamarsc.org/event/salute-to-farmers-merchants/
LOCATION:Railroad Avenue\, Railroad Avenue\, Lamar\, SC\, United States
CATEGORIES:Anniversary Celebrations,Town Events
ATTACH;FMTTYPE=image/png:https://lamarsc.org/wp-content/uploads/2022/07/SALUTE-TO-FARMERS-0822.png
END:VEVENT
END:VCALENDAR