BEGIN:VCALENDAR
VERSION:2.0
PRODID:-//Town of Lamar - ECPv6.15.11//NONSGML v1.0//EN
CALSCALE:GREGORIAN
METHOD:PUBLISH
X-WR-CALNAME:Town of Lamar
X-ORIGINAL-URL:https://lamarsc.org
X-WR-CALDESC:Events for Town of Lamar
REFRESH-INTERVAL;VALUE=DURATION:PT1H
X-Robots-Tag:noindex
X-PUBLISHED-TTL:PT1H
BEGIN:VTIMEZONE
TZID:America/New_York
BEGIN:DAYLIGHT
TZOFFSETFROM:-0500
TZOFFSETTO:-0400
TZNAME:EDT
DTSTART:20220313T070000
END:DAYLIGHT
BEGIN:STANDARD
TZOFFSETFROM:-0400
TZOFFSETTO:-0500
TZNAME:EST
DTSTART:20221106T060000
END:STANDARD
BEGIN:DAYLIGHT
TZOFFSETFROM:-0500
TZOFFSETTO:-0400
TZNAME:EDT
DTSTART:20230312T070000
END:DAYLIGHT
BEGIN:STANDARD
TZOFFSETFROM:-0400
TZOFFSETTO:-0500
TZNAME:EST
DTSTART:20231105T060000
END:STANDARD
BEGIN:DAYLIGHT
TZOFFSETFROM:-0500
TZOFFSETTO:-0400
TZNAME:EDT
DTSTART:20240310T070000
END:DAYLIGHT
BEGIN:STANDARD
TZOFFSETFROM:-0400
TZOFFSETTO:-0500
TZNAME:EST
DTSTART:20241103T060000
END:STANDARD
END:VTIMEZONE
BEGIN:VEVENT
DTSTART;TZID=America/New_York:20230105T180000
DTEND;TZID=America/New_York:20230105T190000
DTSTAMP:20260421T011238
CREATED:20221123T210833Z
LAST-MODIFIED:20221205T145503Z
UID:2974-1672941600-1672945200@lamarsc.org
SUMMARY:Neighborhood Watch Meeting
DESCRIPTION:Join Lamar Police Chief Carl Scott and your Neighborhood Watch Zone Captains at the Lamar Library for the monthly Neighborhood Watch Meeting.\nPlease make every effort to attend and let your voice be heard!   \nRead more about your Lamar Neighborhood Watch Program here. \n  \nShare
URL:https://lamarsc.org/event/neighborhood-watch-meeting-2/
LOCATION:Lamar Library\, 103 E Main St\, Lamar\, 29069\, United States
CATEGORIES:Town Events
ATTACH;FMTTYPE=image/jpeg:https://lamarsc.org/wp-content/uploads/2020/09/lamar-neighborhood-watch-resize.jpeg
END:VEVENT
BEGIN:VEVENT
DTSTART;TZID=America/New_York:20230113T090000
DTEND;TZID=America/New_York:20230113T110000
DTSTAMP:20260421T011238
CREATED:20221128T164850Z
LAST-MODIFIED:20221205T145355Z
UID:3407-1673600400-1673607600@lamarsc.org
SUMMARY:Lamar Beautification Committee
DESCRIPTION:The Lamar Beautification Committee will be meeting the 2nd Friday of every month.\nCome support the Town of Lamar’s efforts for a clean and beautiful town.\nShare
URL:https://lamarsc.org/event/lamar-beautification-committee-4/
LOCATION:Town Hall\, 117 Main St\, Lamar\, SC\, 29069\, United States
CATEGORIES:Town Events
ATTACH;FMTTYPE=image/jpeg:https://lamarsc.org/wp-content/uploads/2015/12/Town-Notices.jpg
END:VEVENT
END:VCALENDAR