BEGIN:VCALENDAR
VERSION:2.0
PRODID:-//Town of Lamar - ECPv6.15.11//NONSGML v1.0//EN
CALSCALE:GREGORIAN
METHOD:PUBLISH
X-ORIGINAL-URL:https://lamarsc.org
X-WR-CALDESC:Events for Town of Lamar
REFRESH-INTERVAL;VALUE=DURATION:PT1H
X-Robots-Tag:noindex
X-PUBLISHED-TTL:PT1H
BEGIN:VTIMEZONE
TZID:America/New_York
BEGIN:DAYLIGHT
TZOFFSETFROM:-0500
TZOFFSETTO:-0400
TZNAME:EDT
DTSTART:20220313T070000
END:DAYLIGHT
BEGIN:STANDARD
TZOFFSETFROM:-0400
TZOFFSETTO:-0500
TZNAME:EST
DTSTART:20221106T060000
END:STANDARD
BEGIN:DAYLIGHT
TZOFFSETFROM:-0500
TZOFFSETTO:-0400
TZNAME:EDT
DTSTART:20230312T070000
END:DAYLIGHT
BEGIN:STANDARD
TZOFFSETFROM:-0400
TZOFFSETTO:-0500
TZNAME:EST
DTSTART:20231105T060000
END:STANDARD
BEGIN:DAYLIGHT
TZOFFSETFROM:-0500
TZOFFSETTO:-0400
TZNAME:EDT
DTSTART:20240310T070000
END:DAYLIGHT
BEGIN:STANDARD
TZOFFSETFROM:-0400
TZOFFSETTO:-0500
TZNAME:EST
DTSTART:20241103T060000
END:STANDARD
END:VTIMEZONE
BEGIN:VEVENT
DTSTART;TZID=America/New_York:20230502T170000
DTEND;TZID=America/New_York:20230502T180000
DTSTAMP:20260420T164616
CREATED:20230426T132902Z
LAST-MODIFIED:20230426T132902Z
UID:6561-1683046800-1683050400@lamarsc.org
SUMMARY:Lamar Library Craft Tuesday
DESCRIPTION:[vc_row][vc_column][vc_column_text]Tuesdays at 5PM in the Month of May\, come to the Lamar Library for craft time!!  [/vc_column_text][vc_column_text]May 2: Butterfly Suncatcher Craft\nMay 9: Mother’s Day Craft\nMay 16: Bubble Day\nMay 23: Watercolor Monsters\nMay 30: Balloon Tennis[/vc_column_text][/vc_column][/vc_row][vc_row][vc_column][vc_single_image image=”6562″ img_size=”full”][/vc_column][/vc_row][vc_row][vc_column][vc_empty_space height=”42px”][/vc_column][/vc_row]\nShare
URL:https://lamarsc.org/event/lamar-library-craft-tuesday/
LOCATION:Lamar Library\, 103 E Main St\, Lamar\, 29069\, United States
CATEGORIES:Town Events
ATTACH;FMTTYPE=image/png:https://lamarsc.org/wp-content/uploads/2023/04/May-crafts-library.png
END:VEVENT
BEGIN:VEVENT
DTSTART;TZID=America/New_York:20230509T170000
DTEND;TZID=America/New_York:20230509T180000
DTSTAMP:20260420T164616
CREATED:20230426T133214Z
LAST-MODIFIED:20230426T133214Z
UID:6567-1683651600-1683655200@lamarsc.org
SUMMARY:Lamar Library Craft Tuesday
DESCRIPTION:[vc_row][vc_column][vc_column_text]Tuesdays at 5PM in the Month of May\, come to the Lamar Library for craft time!!  [/vc_column_text][vc_column_text]May 9: Mother’s Day Craft\nMay 16: Bubble Day\nMay 23: Watercolor Monsters\nMay 30: Balloon Tennis[/vc_column_text][/vc_column][/vc_row][vc_row][vc_column][vc_single_image image=”6562″ img_size=”full”][/vc_column][/vc_row]\nShare
URL:https://lamarsc.org/event/lamar-library-craft-tuesday-2/
LOCATION:Lamar Library\, 103 E Main St\, Lamar\, 29069\, United States
CATEGORIES:Town Events
ATTACH;FMTTYPE=image/png:https://lamarsc.org/wp-content/uploads/2023/04/May-crafts-library.png
END:VEVENT
BEGIN:VEVENT
DTSTART;TZID=America/New_York:20230515T181500
DTEND;TZID=America/New_York:20230515T191500
DTSTAMP:20260420T164616
CREATED:20230511T180254Z
LAST-MODIFIED:20230511T183014Z
UID:6593-1684174500-1684178100@lamarsc.org
SUMMARY:Budget Workshop
DESCRIPTION:[vc_row][vc_column][vc_column_text]\nLamar Town Council will hold a Budget Workshop on Monday\, May 15\, 2023 @ 6:15 PM at Town Hall.\n[/vc_column_text][vc_empty_space][/vc_column][/vc_row]\nShare
URL:https://lamarsc.org/event/budget-workshop/
LOCATION:Town Hall\, 117 Main St\, Lamar\, SC\, 29069\, United States
CATEGORIES:Council Meeting,Town Events
ATTACH;FMTTYPE=image/png:https://lamarsc.org/wp-content/uploads/2023/05/Budget-Workshop_Public-Hearings-2023-2024-2.png
END:VEVENT
BEGIN:VEVENT
DTSTART;TZID=America/New_York:20230516T170000
DTEND;TZID=America/New_York:20230516T180000
DTSTAMP:20260420T164616
CREATED:20230426T133636Z
LAST-MODIFIED:20230426T133636Z
UID:6569-1684256400-1684260000@lamarsc.org
SUMMARY:Lamar Library Craft Tuesday
DESCRIPTION:[vc_row][vc_column][vc_column_text]Tuesdays at 5PM in the Month of May\, come to the Lamar Library for craft time!!  [/vc_column_text][vc_column_text]May 16: Bubble Day\nMay 23: Watercolor Monsters\nMay 30: Balloon Tennis[/vc_column_text][/vc_column][/vc_row][vc_row][vc_column][vc_single_image image=”6562″ img_size=”full”][vc_empty_space][/vc_column][/vc_row]\nShare
URL:https://lamarsc.org/event/lamar-library-craft-tuesday-3/
LOCATION:Lamar Library\, 103 E Main St\, Lamar\, 29069\, United States
CATEGORIES:Town Events
ATTACH;FMTTYPE=image/png:https://lamarsc.org/wp-content/uploads/2023/04/May-crafts-library.png
END:VEVENT
BEGIN:VEVENT
DTSTART;TZID=America/New_York:20230523T170000
DTEND;TZID=America/New_York:20230523T180000
DTSTAMP:20260420T164616
CREATED:20230426T133931Z
LAST-MODIFIED:20230426T133931Z
UID:6571-1684861200-1684864800@lamarsc.org
SUMMARY:Lamar Library Craft Tuesday
DESCRIPTION:[vc_row][vc_column][vc_column_text]Tuesdays at 5PM in the Month of May\, come to the Lamar Library for craft time!!  [/vc_column_text][vc_column_text]May 23: Watercolor Monsters\nMay 30: Balloon Tennis[/vc_column_text][/vc_column][/vc_row][vc_row][vc_column][vc_single_image image=”6562″ img_size=”full”][vc_empty_space][/vc_column][/vc_row]\nShare
URL:https://lamarsc.org/event/lamar-library-craft-tuesday-4/
LOCATION:Lamar Library\, 103 E Main St\, Lamar\, 29069\, United States
CATEGORIES:Town Events
ATTACH;FMTTYPE=image/png:https://lamarsc.org/wp-content/uploads/2023/04/May-crafts-library.png
END:VEVENT
BEGIN:VEVENT
DTSTART;TZID=America/New_York:20230523T181500
DTEND;TZID=America/New_York:20230523T191500
DTSTAMP:20260420T164616
CREATED:20230511T180658Z
LAST-MODIFIED:20230523T203945Z
UID:6598-1684865700-1684869300@lamarsc.org
SUMMARY:Town Budget Public Hearing
DESCRIPTION:[vc_row][vc_column][vc_column_text]\nThe first reading of the 2023-2024 Budget will be held Monday\, May 23\, 2023\, at 6:15 PM at Town Hall.  This meeting is open to the public.\nYou may access the agenda here.[/vc_column_text][/vc_column][/vc_row]\nShare
URL:https://lamarsc.org/event/town-budget-public-hearing/
LOCATION:Town Hall\, 117 Main St\, Lamar\, SC\, 29069\, United States
CATEGORIES:Council Meeting,Town Events
ATTACH;FMTTYPE=image/png:https://lamarsc.org/wp-content/uploads/2023/05/Budget-Workshop_Public-Hearings-2023-2024-revised-2.png
END:VEVENT
BEGIN:VEVENT
DTSTART;TZID=America/New_York:20230525T130000
DTEND;TZID=America/New_York:20230525T130000
DTSTAMP:20260420T164616
CREATED:20230517T130932Z
LAST-MODIFIED:20230517T130932Z
UID:6665-1685019600-1685019600@lamarsc.org
SUMMARY:Community Produce Giveaway
DESCRIPTION:[vc_row][vc_column][vc_column_text]There will be drive-thru pick-up locations around the County on May 25\, 2023.  Come to Lamar-Spaulding Elementary School\, where the Community Produce Giveaway will be set up for a drive-thru pick-up service. \nFirst come\, first serve – starting at 1 PM. \n[/vc_column_text][vc_empty_space][/vc_column][/vc_row]\nShare
URL:https://lamarsc.org/event/community-produce-giveaway/
LOCATION:Lamar-Spaulding Elemetary School\, Lamar\, SC\, 29069\, United States
CATEGORIES:Town Events
ATTACH;FMTTYPE=image/png:https://lamarsc.org/wp-content/uploads/2023/05/Community-Produce-Giveaway.png
END:VEVENT
BEGIN:VEVENT
DTSTART;TZID=America/New_York:20230530T170000
DTEND;TZID=America/New_York:20230530T180000
DTSTAMP:20260420T164616
CREATED:20230426T134237Z
LAST-MODIFIED:20230426T134237Z
UID:6573-1685466000-1685469600@lamarsc.org
SUMMARY:Lamar Library Craft Tuesday
DESCRIPTION:[vc_row][vc_column][vc_column_text]Tuesdays at 5PM in the Month of May\, come to the Lamar Library for craft time!!  [/vc_column_text][vc_column_text]May 30: Balloon Tennis[/vc_column_text][vc_single_image image=”6562″ img_size=”full”][vc_empty_space][/vc_column][/vc_row]\nShare
URL:https://lamarsc.org/event/lamar-library-craft-tuesday-5/
LOCATION:Lamar Library\, 103 E Main St\, Lamar\, 29069\, United States
CATEGORIES:Town Events
ATTACH;FMTTYPE=image/png:https://lamarsc.org/wp-content/uploads/2023/04/May-crafts-library.png
END:VEVENT
END:VCALENDAR