BEGIN:VCALENDAR
VERSION:2.0
PRODID:-//Town of Lamar - ECPv6.15.11//NONSGML v1.0//EN
CALSCALE:GREGORIAN
METHOD:PUBLISH
X-ORIGINAL-URL:https://lamarsc.org
X-WR-CALDESC:Events for Town of Lamar
REFRESH-INTERVAL;VALUE=DURATION:PT1H
X-Robots-Tag:noindex
X-PUBLISHED-TTL:PT1H
BEGIN:VTIMEZONE
TZID:America/New_York
BEGIN:DAYLIGHT
TZOFFSETFROM:-0500
TZOFFSETTO:-0400
TZNAME:EDT
DTSTART:20230312T070000
END:DAYLIGHT
BEGIN:STANDARD
TZOFFSETFROM:-0400
TZOFFSETTO:-0500
TZNAME:EST
DTSTART:20231105T060000
END:STANDARD
BEGIN:DAYLIGHT
TZOFFSETFROM:-0500
TZOFFSETTO:-0400
TZNAME:EDT
DTSTART:20240310T070000
END:DAYLIGHT
BEGIN:STANDARD
TZOFFSETFROM:-0400
TZOFFSETTO:-0500
TZNAME:EST
DTSTART:20241103T060000
END:STANDARD
BEGIN:DAYLIGHT
TZOFFSETFROM:-0500
TZOFFSETTO:-0400
TZNAME:EDT
DTSTART:20250309T070000
END:DAYLIGHT
BEGIN:STANDARD
TZOFFSETFROM:-0400
TZOFFSETTO:-0500
TZNAME:EST
DTSTART:20251102T060000
END:STANDARD
END:VTIMEZONE
BEGIN:VEVENT
DTSTART;TZID=America/New_York:20240405T140000
DTEND;TZID=America/New_York:20240406T203000
DTSTAMP:20260421T041737
CREATED:20240129T193357Z
LAST-MODIFIED:20240129T193357Z
UID:7229-1712325600-1712435400@lamarsc.org
SUMMARY:2024 Egg Scramble Jamboree Festival
DESCRIPTION:[vc_row][vc_column][vc_column_text]Join us as we celebrate the 40th Egg Scramble Jamboree! \nLearn more about the weekend’s events and access applications for the parade & vendor booths.\nAs more events are planned\, we will update the Lamar Egg Scramble Jamboree web page. \nClick here! \n[/vc_column_text][/vc_column][/vc_row][vc_row][vc_column][vc_empty_space height=”42px”][/vc_column][/vc_row]\nShare
URL:https://lamarsc.org/event/2024-egg-scramble-jamboree-festival/
LOCATION:Main Street\, 117 Main St\, Lamar\, SC\, 29069
CATEGORIES:Lamar Egg Scramble,Town Events
ATTACH;FMTTYPE=image/png:https://lamarsc.org/wp-content/uploads/2024/01/Egg-Scramble-Jamboree-2024-1.png
END:VEVENT
BEGIN:VEVENT
DTSTART;TZID=America/New_York:20240412T090000
DTEND;TZID=America/New_York:20240412T110000
DTSTAMP:20260421T041737
CREATED:20231105T055046Z
LAST-MODIFIED:20240320T151130Z
UID:3409-1712912400-1712919600@lamarsc.org
SUMMARY:Lamar Beautification Committee
DESCRIPTION:The Lamar Beautification Committee will be meeting the 2nd Friday of every month.\nCome support the Town of Lamar’s efforts for a clean and beautiful town.\nShare
URL:https://lamarsc.org/event/lamar-beautification-committee-5/
LOCATION:Town Hall\, 117 Main St\, Lamar\, SC\, 29069\, United States
CATEGORIES:Town Events
ATTACH;FMTTYPE=image/png:https://lamarsc.org/wp-content/uploads/2022/06/Town-Notices2.png
END:VEVENT
BEGIN:VEVENT
DTSTART;TZID=America/New_York:20240427T071500
DTEND;TZID=America/New_York:20240427T160000
DTSTAMP:20260421T041737
CREATED:20240409T180307Z
LAST-MODIFIED:20240409T180330Z
UID:7407-1714202100-1714233600@lamarsc.org
SUMMARY:Concealed Weapons Class
DESCRIPTION:[vc_row][vc_column][vc_column_text]Chuck McLendon\, SC Concealed Weapons Instructor\, is holding a Concealed Weapons Class at The Campbell Barn (634 Lamar Hwy – Cartersville Hwy) on April 27\, 2024 from 7:15 a.m. – 4 p.m. \n$35 if you bring your own firearm & 25 rounds\nIf you need to rent a firearm\, there will be an additional $20 \nPlease pack a lunch.  There will be a lunch break from 11:30 a.m. – 12 p.m.\nEach participant must bring driver’s license or ID card. \nContact Chuck to secure your slot!  843-450-4167[/vc_column_text][vc_empty_space][/vc_column][/vc_row][vc_row][vc_column][vc_single_image image=”7408″ img_size=”full”][/vc_column][/vc_row][vc_row][vc_column][vc_empty_space][/vc_column][/vc_row]\nShare
URL:https://lamarsc.org/event/concealed-weapons-class/
LOCATION:The Campbell Barn\, 634 Lamar Hwy\, Lamar\, SC\, United States
CATEGORIES:Town Events
ATTACH;FMTTYPE=image/png:https://lamarsc.org/wp-content/uploads/2024/04/CONCEALED-WEAPONS-CLASS-4.png
END:VEVENT
END:VCALENDAR