BEGIN:VCALENDAR
VERSION:2.0
PRODID:-//Town of Lamar - ECPv6.15.11//NONSGML v1.0//EN
CALSCALE:GREGORIAN
METHOD:PUBLISH
X-WR-CALNAME:Town of Lamar
X-ORIGINAL-URL:https://lamarsc.org
X-WR-CALDESC:Events for Town of Lamar
REFRESH-INTERVAL;VALUE=DURATION:PT1H
X-Robots-Tag:noindex
X-PUBLISHED-TTL:PT1H
BEGIN:VTIMEZONE
TZID:America/New_York
BEGIN:DAYLIGHT
TZOFFSETFROM:-0500
TZOFFSETTO:-0400
TZNAME:EDT
DTSTART:20210314T070000
END:DAYLIGHT
BEGIN:STANDARD
TZOFFSETFROM:-0400
TZOFFSETTO:-0500
TZNAME:EST
DTSTART:20211107T060000
END:STANDARD
BEGIN:DAYLIGHT
TZOFFSETFROM:-0500
TZOFFSETTO:-0400
TZNAME:EDT
DTSTART:20220313T070000
END:DAYLIGHT
BEGIN:STANDARD
TZOFFSETFROM:-0400
TZOFFSETTO:-0500
TZNAME:EST
DTSTART:20221106T060000
END:STANDARD
BEGIN:DAYLIGHT
TZOFFSETFROM:-0500
TZOFFSETTO:-0400
TZNAME:EDT
DTSTART:20230312T070000
END:DAYLIGHT
BEGIN:STANDARD
TZOFFSETFROM:-0400
TZOFFSETTO:-0500
TZNAME:EST
DTSTART:20231105T060000
END:STANDARD
END:VTIMEZONE
BEGIN:VEVENT
DTSTART;TZID=America/New_York:20220222T180000
DTEND;TZID=America/New_York:20220222T190000
DTSTAMP:20260423T003952
CREATED:20220214T173716Z
LAST-MODIFIED:20220214T173743Z
UID:5296-1645552800-1645556400@lamarsc.org
SUMMARY:Women's Self Defense Class
DESCRIPTION:[vc_row][vc_column][vc_column_text]The Lamar Police Department and the Darlington County Sheriff’s Office are sponsoring a Women’s Self Defense Class at the Lamar American Legion Post on Warren Ave on February 22\, 2022 @ 6 PM. \nCaptain Mark Campbell of the Darlington County Sheriff’s Office will be on site instructing the class.  All women are welcome to attend.[/vc_column_text][vc_empty_space height=”22px”][vc_single_image image=”5297″ img_size=”full”][vc_empty_space height=”42px”][/vc_column][/vc_row]\nShare
URL:https://lamarsc.org/event/womens-self-defense-class/
LOCATION:Lamar American Legion Post 94\, 323 Warren Ave\, Lamar\, SC\, United States
CATEGORIES:Town Events
ATTACH;FMTTYPE=image/png:https://lamarsc.org/wp-content/uploads/2022/02/womens-self-defense-class-feb-2022-2-2.png
END:VEVENT
END:VCALENDAR