BEGIN:VCALENDAR
VERSION:2.0
PRODID:-//Town of Lamar - ECPv6.15.11//NONSGML v1.0//EN
CALSCALE:GREGORIAN
METHOD:PUBLISH
X-WR-CALNAME:Town of Lamar
X-ORIGINAL-URL:https://lamarsc.org
X-WR-CALDESC:Events for Town of Lamar
REFRESH-INTERVAL;VALUE=DURATION:PT1H
X-Robots-Tag:noindex
X-PUBLISHED-TTL:PT1H
BEGIN:VTIMEZONE
TZID:America/New_York
BEGIN:DAYLIGHT
TZOFFSETFROM:-0500
TZOFFSETTO:-0400
TZNAME:EDT
DTSTART:20210314T070000
END:DAYLIGHT
BEGIN:STANDARD
TZOFFSETFROM:-0400
TZOFFSETTO:-0500
TZNAME:EST
DTSTART:20211107T060000
END:STANDARD
BEGIN:DAYLIGHT
TZOFFSETFROM:-0500
TZOFFSETTO:-0400
TZNAME:EDT
DTSTART:20220313T070000
END:DAYLIGHT
BEGIN:STANDARD
TZOFFSETFROM:-0400
TZOFFSETTO:-0500
TZNAME:EST
DTSTART:20221106T060000
END:STANDARD
BEGIN:DAYLIGHT
TZOFFSETFROM:-0500
TZOFFSETTO:-0400
TZNAME:EDT
DTSTART:20230312T070000
END:DAYLIGHT
BEGIN:STANDARD
TZOFFSETFROM:-0400
TZOFFSETTO:-0500
TZNAME:EST
DTSTART:20231105T060000
END:STANDARD
END:VTIMEZONE
BEGIN:VEVENT
DTSTART;TZID=America/New_York:20220507T120000
DTEND;TZID=America/New_York:20220507T120000
DTSTAMP:20260422T185351
CREATED:20220425T172157Z
LAST-MODIFIED:20220425T172157Z
UID:5563-1651924800-1651924800@lamarsc.org
SUMMARY:Take It 2 The Streets
DESCRIPTION:[vc_row][vc_column][vc_column_text]The Take It 2 The Streets event will take place from 12 PM – Until \nTo take part in the Take It 2 The Streets event\, or for more information\, you may contact:\nPastor Tamara Durant\n843-610-1747[/vc_column_text][vc_single_image image=”5564″ img_size=”full”][vc_empty_space][/vc_column][/vc_row]\nShare
URL:https://lamarsc.org/event/take-it-2-the-streets/
LOCATION:Powerhouse Faith Ministry\, 373 Davis Street\, Lamar\, SC\, 29069\, United States
CATEGORIES:Town Events
ATTACH;FMTTYPE=image/png:https://lamarsc.org/wp-content/uploads/2022/04/Take-it-2-the-Streets-Flyer-050722-FEAT-IMG-2.png
END:VEVENT
END:VCALENDAR