BEGIN:VCALENDAR
VERSION:2.0
PRODID:-//Town of Lamar - ECPv6.15.11//NONSGML v1.0//EN
CALSCALE:GREGORIAN
METHOD:PUBLISH
X-WR-CALNAME:Town of Lamar
X-ORIGINAL-URL:https://lamarsc.org
X-WR-CALDESC:Events for Town of Lamar
REFRESH-INTERVAL;VALUE=DURATION:PT1H
X-Robots-Tag:noindex
X-PUBLISHED-TTL:PT1H
BEGIN:VTIMEZONE
TZID:America/New_York
BEGIN:DAYLIGHT
TZOFFSETFROM:-0500
TZOFFSETTO:-0400
TZNAME:EDT
DTSTART:20210314T070000
END:DAYLIGHT
BEGIN:STANDARD
TZOFFSETFROM:-0400
TZOFFSETTO:-0500
TZNAME:EST
DTSTART:20211107T060000
END:STANDARD
BEGIN:DAYLIGHT
TZOFFSETFROM:-0500
TZOFFSETTO:-0400
TZNAME:EDT
DTSTART:20220313T070000
END:DAYLIGHT
BEGIN:STANDARD
TZOFFSETFROM:-0400
TZOFFSETTO:-0500
TZNAME:EST
DTSTART:20221106T060000
END:STANDARD
BEGIN:DAYLIGHT
TZOFFSETFROM:-0500
TZOFFSETTO:-0400
TZNAME:EDT
DTSTART:20230312T070000
END:DAYLIGHT
BEGIN:STANDARD
TZOFFSETFROM:-0400
TZOFFSETTO:-0500
TZNAME:EST
DTSTART:20231105T060000
END:STANDARD
END:VTIMEZONE
BEGIN:VEVENT
DTSTART;TZID=America/New_York:20220514T100000
DTEND;TZID=America/New_York:20220514T120000
DTSTAMP:20260422T185251
CREATED:20220414T153851Z
LAST-MODIFIED:20220414T153851Z
UID:5526-1652522400-1652529600@lamarsc.org
SUMMARY:Spaulding Middle School Community Fair
DESCRIPTION:[vc_row][vc_column][vc_column_text]\nThe Orange Frog Ambassadors of Spaulding Middle School is inviting the community for a Community Fair\, promoting happiness and kindness in the community!\nBusinesses and organizations of the community are invited to be represented to enlighten the Lamar Community to enrich lives for optimum success.  This opportunity can change the lives of families\, creating a spark of hope in the community of Darlington County\, where citizens of all ages are living their best lives. \nAn event flyer and vendor booth form may be accessed HERE for your registration and any donations given to support the school’s program for the continual success of our students and school community.  Your participation is greatly appreciated!! \nAll forms must be returned by April 29\, 2022.  For more information\, please contact Nicole Jones 843-326-7625 or Kaywanna Bradley 843-326-7651.[/vc_column_text][vc_empty_space][/vc_column][/vc_row]\nShare
URL:https://lamarsc.org/event/spaulding-middle-school-community-fair/
LOCATION:Spaulding Middle School\, 400 Cartersville Hwy.\, Lamar\, SC\, 29069
CATEGORIES:Town Events
ATTACH;FMTTYPE=image/png:https://lamarsc.org/wp-content/uploads/2022/04/orange-frog-2022.png
END:VEVENT
END:VCALENDAR