BEGIN:VCALENDAR
VERSION:2.0
PRODID:-//Town of Lamar - ECPv6.15.11//NONSGML v1.0//EN
CALSCALE:GREGORIAN
METHOD:PUBLISH
X-ORIGINAL-URL:https://lamarsc.org
X-WR-CALDESC:Events for Town of Lamar
REFRESH-INTERVAL;VALUE=DURATION:PT1H
X-Robots-Tag:noindex
X-PUBLISHED-TTL:PT1H
BEGIN:VTIMEZONE
TZID:America/New_York
BEGIN:DAYLIGHT
TZOFFSETFROM:-0500
TZOFFSETTO:-0400
TZNAME:EDT
DTSTART:20210314T070000
END:DAYLIGHT
BEGIN:STANDARD
TZOFFSETFROM:-0400
TZOFFSETTO:-0500
TZNAME:EST
DTSTART:20211107T060000
END:STANDARD
BEGIN:DAYLIGHT
TZOFFSETFROM:-0500
TZOFFSETTO:-0400
TZNAME:EDT
DTSTART:20220313T070000
END:DAYLIGHT
BEGIN:STANDARD
TZOFFSETFROM:-0400
TZOFFSETTO:-0500
TZNAME:EST
DTSTART:20221106T060000
END:STANDARD
BEGIN:DAYLIGHT
TZOFFSETFROM:-0500
TZOFFSETTO:-0400
TZNAME:EDT
DTSTART:20230312T070000
END:DAYLIGHT
BEGIN:STANDARD
TZOFFSETFROM:-0400
TZOFFSETTO:-0500
TZNAME:EST
DTSTART:20231105T060000
END:STANDARD
END:VTIMEZONE
BEGIN:VEVENT
DTSTART;TZID=America/New_York:20220730T110000
DTEND;TZID=America/New_York:20220730T130000
DTSTAMP:20260422T182551
CREATED:20220728T183502Z
LAST-MODIFIED:20220728T183525Z
UID:5903-1659178800-1659186000@lamarsc.org
SUMMARY:BBQ Fundraiser in Lamar
DESCRIPTION:[vc_row][vc_column][vc_column_text]Portions of this BBQ Fundraiser will assist in providing school supplies for students in the Pee Dee region midyear of the school year.[/vc_column_text][vc_single_image image=”5905″ img_size=”full”][vc_empty_space][/vc_column][/vc_row]\nShare
URL:https://lamarsc.org/event/bbq-fundraiser-in-lamar/
LOCATION:Piggly Wiggly\, Lamar\, South Carolina
CATEGORIES:Town Events
ATTACH;FMTTYPE=image/png:https://lamarsc.org/wp-content/uploads/2022/07/bbq-fundraiser.png
END:VEVENT
END:VCALENDAR