BEGIN:VCALENDAR
VERSION:2.0
PRODID:-//Town of Lamar - ECPv6.15.11//NONSGML v1.0//EN
CALSCALE:GREGORIAN
METHOD:PUBLISH
X-WR-CALNAME:Town of Lamar
X-ORIGINAL-URL:https://lamarsc.org
X-WR-CALDESC:Events for Town of Lamar
REFRESH-INTERVAL;VALUE=DURATION:PT1H
X-Robots-Tag:noindex
X-PUBLISHED-TTL:PT1H
BEGIN:VTIMEZONE
TZID:America/New_York
BEGIN:DAYLIGHT
TZOFFSETFROM:-0500
TZOFFSETTO:-0400
TZNAME:EDT
DTSTART:20250309T070000
END:DAYLIGHT
BEGIN:STANDARD
TZOFFSETFROM:-0400
TZOFFSETTO:-0500
TZNAME:EST
DTSTART:20251102T060000
END:STANDARD
BEGIN:DAYLIGHT
TZOFFSETFROM:-0500
TZOFFSETTO:-0400
TZNAME:EDT
DTSTART:20260308T070000
END:DAYLIGHT
BEGIN:STANDARD
TZOFFSETFROM:-0400
TZOFFSETTO:-0500
TZNAME:EST
DTSTART:20261101T060000
END:STANDARD
BEGIN:DAYLIGHT
TZOFFSETFROM:-0500
TZOFFSETTO:-0400
TZNAME:EDT
DTSTART:20270314T070000
END:DAYLIGHT
BEGIN:STANDARD
TZOFFSETFROM:-0400
TZOFFSETTO:-0500
TZNAME:EST
DTSTART:20271107T060000
END:STANDARD
END:VTIMEZONE
BEGIN:VEVENT
DTSTART;TZID=America/New_York:20260115T090000
DTEND;TZID=America/New_York:20260115T100000
DTSTAMP:20260422T185315
CREATED:20260113T145323Z
LAST-MODIFIED:20260114T191927Z
UID:9006-1768467600-1768471200@lamarsc.org
SUMMARY:Food Packing Event For Harvest Hope
DESCRIPTION:Interested in volunteering? \nPlease contact Jessica Myers at:  jessmyers504@gmail.com or call: 573-836-1692. \nShare
URL:https://lamarsc.org/event/food-packing-event-for-harvest-hope/
LOCATION:Harvest Hope\, Farmers Market - Hwy 52\, Florence/Darlington\, SC\, United States
CATEGORIES:Town Events
END:VEVENT
END:VCALENDAR