BEGIN:VCALENDAR
VERSION:2.0
PRODID:-//Town of Lamar - ECPv6.15.11//NONSGML v1.0//EN
CALSCALE:GREGORIAN
METHOD:PUBLISH
X-WR-CALNAME:Town of Lamar
X-ORIGINAL-URL:https://lamarsc.org
X-WR-CALDESC:Events for Town of Lamar
REFRESH-INTERVAL;VALUE=DURATION:PT1H
X-Robots-Tag:noindex
X-PUBLISHED-TTL:PT1H
BEGIN:VTIMEZONE
TZID:America/New_York
BEGIN:DAYLIGHT
TZOFFSETFROM:-0500
TZOFFSETTO:-0400
TZNAME:EDT
DTSTART:20210314T070000
END:DAYLIGHT
BEGIN:STANDARD
TZOFFSETFROM:-0400
TZOFFSETTO:-0500
TZNAME:EST
DTSTART:20211107T060000
END:STANDARD
BEGIN:DAYLIGHT
TZOFFSETFROM:-0500
TZOFFSETTO:-0400
TZNAME:EDT
DTSTART:20220313T070000
END:DAYLIGHT
BEGIN:STANDARD
TZOFFSETFROM:-0400
TZOFFSETTO:-0500
TZNAME:EST
DTSTART:20221106T060000
END:STANDARD
BEGIN:DAYLIGHT
TZOFFSETFROM:-0500
TZOFFSETTO:-0400
TZNAME:EDT
DTSTART:20230312T070000
END:DAYLIGHT
BEGIN:STANDARD
TZOFFSETFROM:-0400
TZOFFSETTO:-0500
TZNAME:EST
DTSTART:20231105T060000
END:STANDARD
BEGIN:DAYLIGHT
TZOFFSETFROM:-0500
TZOFFSETTO:-0400
TZNAME:EDT
DTSTART:20240310T070000
END:DAYLIGHT
BEGIN:STANDARD
TZOFFSETFROM:-0400
TZOFFSETTO:-0500
TZNAME:EST
DTSTART:20241103T060000
END:STANDARD
END:VTIMEZONE
BEGIN:VEVENT
DTSTART;TZID=America/New_York:20221021T193000
DTEND;TZID=America/New_York:20221021T193000
DTSTAMP:20260422T184155
CREATED:20220927T172835Z
LAST-MODIFIED:20221003T170635Z
UID:6016-1666380600-1666380600@lamarsc.org
SUMMARY:Salute to Sports at Halftime
DESCRIPTION:[vc_row][vc_column][vc_column_text]\nA special Salute to Sports Sesquicentennial Event will be held during halftime at the Lamar High School Football game on Friday\, October 21\, 2022.\nThe game starts at 7:30 PM.  Come out and support the Silver Foxes and enjoy halftime fun! \n \n[/vc_column_text][vc_empty_space height=”22px”][vc_column_text]Contact:   \nTim Dargan (843-861-5682) or (843-326-7264)  tdargan@lamarsc.broadstreet.us \nSharon Peoples (843-453-5200)  peoplessharon1@yahoo.com (Sharon’s Facebook page)[/vc_column_text][/vc_column][/vc_row][vc_row][vc_column][vc_empty_space height=”42px”][/vc_column][/vc_row]\nShare
URL:https://lamarsc.org/event/salute-to-sports-at-halftime/
LOCATION:Lamar High School\, 216 N Darlington Ave\, Lamar\, SC\, 29069\, United States
CATEGORIES:Anniversary Celebrations,Town Events
ATTACH;FMTTYPE=image/png:https://lamarsc.org/wp-content/uploads/2022/09/Salute-to-Sports-102122-4.png
END:VEVENT
BEGIN:VEVENT
DTSTART;TZID=America/New_York:20221027T160000
DTEND;TZID=America/New_York:20221027T180000
DTSTAMP:20260422T184155
CREATED:20221026T185600Z
LAST-MODIFIED:20221026T185600Z
UID:6062-1666886400-1666893600@lamarsc.org
SUMMARY:Duke Energy Forum
DESCRIPTION:[vc_row][vc_column][vc_column_text]\n\n\n\n\n\n\n\nJoin a great opportunity to speak with a Duke representative!  Got questions\, comments or concerns? \n\n\n\n\n\n\n\n\n\n\n[/vc_column_text][/vc_column][/vc_row][vc_row][vc_column][vc_empty_space][/vc_column][/vc_row]\nShare
URL:https://lamarsc.org/event/duke-energy-forum/
LOCATION:Town Hall\, 117 Main St\, Lamar\, SC\, 29069\, United States
CATEGORIES:Town Events
ATTACH;FMTTYPE=image/png:https://lamarsc.org/wp-content/uploads/2022/10/Duke-Energy-Forum-102722-2.png
END:VEVENT
BEGIN:VEVENT
DTSTART;TZID=America/New_York:20221109T084500
DTEND;TZID=America/New_York:20221109T100000
DTSTAMP:20260422T184155
CREATED:20221026T190741Z
LAST-MODIFIED:20221026T190741Z
UID:6066-1667983500-1667988000@lamarsc.org
SUMMARY:Veterans Day Breakfast
DESCRIPTION:[vc_row][vc_column][vc_column_text]\nCalling all Veterans!  The Lamar High School JROTC wants to have breakfast with you!  Come enjoy a hot breakfast meal at Lamar High School.\n[/vc_column_text][/vc_column][/vc_row]\nShare
URL:https://lamarsc.org/event/veterans-day-breakfast/
LOCATION:Lamar High School\, 216 N Darlington Ave\, Lamar\, SC\, 29069\, United States
CATEGORIES:Town Events
ATTACH;FMTTYPE=image/png:https://lamarsc.org/wp-content/uploads/2022/10/veterans-day-breakfast-110922-2.png
END:VEVENT
BEGIN:VEVENT
DTSTART;TZID=America/New_York:20221117T174500
DTEND;TZID=America/New_York:20221117T184500
DTSTAMP:20260422T184155
CREATED:20221031T205004Z
LAST-MODIFIED:20221031T205004Z
UID:6081-1668707100-1668710700@lamarsc.org
SUMMARY:History of Education
DESCRIPTION:[vc_row][vc_column][vc_column_text]\nSesquicentennial Event for November – History of Education\n“Our Journey” celebrating the History of Education in Lamar will be presented at the Library.\nEducational progress in the Lamar Area Schools is moving toward new horizons while mastering the new as never before\, yet remembering the past and how the past has led us to where we are today. \nLamar’s Schools Today:\nBest in County 2022\nLamar-Spaulding Elementary\nSpaulding Middle School\nLamar High School[/vc_column_text][vc_empty_space height=”42px”][/vc_column][/vc_row]\nShare
URL:https://lamarsc.org/event/history-of-education/
LOCATION:Lamar Library\, 103 E Main St\, Lamar\, 29069\, United States
CATEGORIES:Anniversary Celebrations,Town Events
ATTACH;FMTTYPE=image/png:https://lamarsc.org/wp-content/uploads/2022/10/History-of-Education-111722.png
END:VEVENT
BEGIN:VEVENT
DTSTART;TZID=America/New_York:20221119T100000
DTEND;TZID=America/New_York:20221119T100000
DTSTAMP:20260422T184155
CREATED:20221108T184520Z
LAST-MODIFIED:20221108T184520Z
UID:6106-1668852000-1668852000@lamarsc.org
SUMMARY:Community Fish Fry
DESCRIPTION:[vc_row][vc_column][vc_column_text]\nIt’s a Community Fish Fry!!!!\n[/vc_column_text][vc_empty_space][/vc_column][/vc_row]\nShare
URL:https://lamarsc.org/event/community-fish-fry/
LOCATION:St Mark PHC\, 333 Davis Ave\, Lamar\, SC\, 29069\, United States
CATEGORIES:Town Events
ATTACH;FMTTYPE=image/png:https://lamarsc.org/wp-content/uploads/2022/11/fish-fry-111922.png
END:VEVENT
BEGIN:VEVENT
DTSTART;TZID=America/New_York:20221122T100000
DTEND;TZID=America/New_York:20221122T120000
DTSTAMP:20260422T184155
CREATED:20221117T140328Z
LAST-MODIFIED:20221117T140328Z
UID:6138-1669111200-1669118400@lamarsc.org
SUMMARY:Drive Thru Food Distribution
DESCRIPTION:[vc_row][vc_column][vc_column_text]\nJoin us and the Salvation Army at Town Hall for a Drive Thru Food Distribution!\n[/vc_column_text][/vc_column][/vc_row][vc_row][vc_column][vc_empty_space][/vc_column][/vc_row]\nShare
URL:https://lamarsc.org/event/drive-thru-food-distribution/
LOCATION:Town Hall\, 117 Main St\, Lamar\, SC\, 29069\, United States
CATEGORIES:Town Events
ATTACH;FMTTYPE=image/png:https://lamarsc.org/wp-content/uploads/2022/11/DriveThru-Food-Distribution-112222-2.png
END:VEVENT
BEGIN:VEVENT
DTSTART;TZID=America/New_York:20221204T150000
DTEND;TZID=America/New_York:20221204T150000
DTSTAMP:20260422T184155
CREATED:20221111T172641Z
LAST-MODIFIED:20221128T183351Z
UID:6109-1670166000-1670166000@lamarsc.org
SUMMARY:Lamar Library Park Dedication
DESCRIPTION:[vc_row][vc_column][vc_column_text]\nJoin us as we dedicate the Lamar Library Park in memory of Ethel Jane Reynolds.\n[/vc_column_text][vc_column_text]From the time the yard around the “new” library was planned and established\, Ethel Jane Reynolds was there. She immediately took on the role as proprietor. She loved it! It was her passion— flowers and trees. And\, she knew the names of all of them. She worked every week to maintain its beauty and never gave up until in recent time her health failed. \nLamar appreciates the work and enthusiasm Ethel Jane Reynolds put into making Lamar Library Park the inviting and beautiful place it is.[/vc_column_text][/vc_column][/vc_row]\nShare
URL:https://lamarsc.org/event/lamar-library-park-dedication/
LOCATION:Lamar Library\, 103 E Main St\, Lamar\, 29069\, United States
CATEGORIES:Town Events
ATTACH;FMTTYPE=image/png:https://lamarsc.org/wp-content/uploads/2022/11/Lamar-Park-Dedication.png
END:VEVENT
BEGIN:VEVENT
DTSTART;TZID=America/New_York:20221214T170000
DTEND;TZID=America/New_York:20221214T190000
DTSTAMP:20260422T184155
CREATED:20221207T214145Z
LAST-MODIFIED:20221207T214145Z
UID:6213-1671037200-1671044400@lamarsc.org
SUMMARY:Girl Scouts Recruitment Event
DESCRIPTION:[vc_row][vc_column][vc_column_text]\nJoin Girl Scouts!\nThere will be a Cocoa & Cookies Girl Scouts Recruitment Event at the Spaulding Middle School cafeteria. \n \nVisit the Girl Scouts website : www.girlscoutsesc.org[/vc_column_text][/vc_column][/vc_row]\nShare
URL:https://lamarsc.org/event/girl-scouts-recruitment-event/
LOCATION:Spaulding Middle School\, 400 Cartersville Hwy.\, Lamar\, SC\, 29069
CATEGORIES:Town Events
ATTACH;FMTTYPE=image/png:https://lamarsc.org/wp-content/uploads/2022/12/girl-scouts-recruitment-event.png
END:VEVENT
BEGIN:VEVENT
DTSTART;TZID=America/New_York:20230105T180000
DTEND;TZID=America/New_York:20230105T190000
DTSTAMP:20260422T184155
CREATED:20221123T210833Z
LAST-MODIFIED:20221205T145503Z
UID:2974-1672941600-1672945200@lamarsc.org
SUMMARY:Neighborhood Watch Meeting
DESCRIPTION:Join Lamar Police Chief Carl Scott and your Neighborhood Watch Zone Captains at the Lamar Library for the monthly Neighborhood Watch Meeting.\nPlease make every effort to attend and let your voice be heard!   \nRead more about your Lamar Neighborhood Watch Program here. \n  \nShare
URL:https://lamarsc.org/event/neighborhood-watch-meeting-2/
LOCATION:Lamar Library\, 103 E Main St\, Lamar\, 29069\, United States
CATEGORIES:Town Events
ATTACH;FMTTYPE=image/jpeg:https://lamarsc.org/wp-content/uploads/2020/09/lamar-neighborhood-watch-resize.jpeg
END:VEVENT
BEGIN:VEVENT
DTSTART;TZID=America/New_York:20230113T090000
DTEND;TZID=America/New_York:20230113T110000
DTSTAMP:20260422T184155
CREATED:20221128T164850Z
LAST-MODIFIED:20221205T145355Z
UID:3407-1673600400-1673607600@lamarsc.org
SUMMARY:Lamar Beautification Committee
DESCRIPTION:The Lamar Beautification Committee will be meeting the 2nd Friday of every month.\nCome support the Town of Lamar’s efforts for a clean and beautiful town.\nShare
URL:https://lamarsc.org/event/lamar-beautification-committee-4/
LOCATION:Town Hall\, 117 Main St\, Lamar\, SC\, 29069\, United States
CATEGORIES:Town Events
ATTACH;FMTTYPE=image/jpeg:https://lamarsc.org/wp-content/uploads/2015/12/Town-Notices.jpg
END:VEVENT
BEGIN:VEVENT
DTSTART;TZID=America/New_York:20230210T090000
DTEND;TZID=America/New_York:20230210T110000
DTSTAMP:20260422T184155
CREATED:20221201T064655Z
LAST-MODIFIED:20230119T152025Z
UID:3405-1676019600-1676026800@lamarsc.org
SUMMARY:Lamar Beautification Committee
DESCRIPTION:The Lamar Beautification Committee will be meeting the 2nd Friday of every month.\nCome support the Town of Lamar’s efforts for a clean and beautiful town.\nShare
URL:https://lamarsc.org/event/lamar-beautification-committee-3/
LOCATION:Town Hall\, 117 Main St\, Lamar\, SC\, 29069\, United States
CATEGORIES:Town Events
ATTACH;FMTTYPE=image/png:https://lamarsc.org/wp-content/uploads/2022/06/Town-Notices2.png
END:VEVENT
BEGIN:VEVENT
DTSTART;TZID=America/New_York:20230215T173000
DTEND;TZID=America/New_York:20230215T173000
DTSTAMP:20260422T184155
CREATED:20230214T154027Z
LAST-MODIFIED:20230214T154049Z
UID:6343-1676482200-1676482200@lamarsc.org
SUMMARY:Rubicon Community Event
DESCRIPTION:[vc_row][vc_column][vc_column_text]\nRubicon Family Counseling Center of Hartsville\, is hosting an evening at John Wesley United Methodist Church of Lamar.\nThe mission of Rubicon\, Inc. is to respond selectively to identified human service needs in Darlington County through prevention\, intervention and treatment strategies aimed at strengthening\, enhancing and maintaining effective functioning of families and individuals\, and generally improve the health status of community residents.[/vc_column_text][/vc_column][/vc_row][vc_row][vc_column][vc_single_image image=”6344″ img_size=”full”][/vc_column][/vc_row]\nShare
URL:https://lamarsc.org/event/rubicon-community-event/
LOCATION:John Wesley UMC\, 310 Davis St.\, Lamar\, SC\, 29069\, United States
CATEGORIES:Town Events
ATTACH;FMTTYPE=image/png:https://lamarsc.org/wp-content/uploads/2023/02/Rubicon-flyer-021523.png
END:VEVENT
BEGIN:VEVENT
DTSTART;TZID=America/New_York:20230218T100000
DTEND;TZID=America/New_York:20230218T120000
DTSTAMP:20260422T184155
CREATED:20230127T151113Z
LAST-MODIFIED:20230127T151113Z
UID:6326-1676714400-1676721600@lamarsc.org
SUMMARY:Depression Seminar
DESCRIPTION:[vc_row][vc_column][vc_column_text]\nMary Magdalene Baptist Church in Lamar is hosting a Depression Seminar with many local and experienced guest speakers.\n[/vc_column_text][vc_empty_space][/vc_column][/vc_row]\nShare
URL:https://lamarsc.org/event/depression-seminar/
LOCATION:Mary Magdalene Baptist Church\, 696 Davis St\, Lamar\, SC\, 29069\, United States
CATEGORIES:Town Events
ATTACH;FMTTYPE=image/png:https://lamarsc.org/wp-content/uploads/2023/01/Depression-Seminar-021823-2.png
END:VEVENT
BEGIN:VEVENT
DTSTART;TZID=America/New_York:20230221T180000
DTEND;TZID=America/New_York:20230221T190000
DTSTAMP:20260422T184156
CREATED:20230120T140421Z
LAST-MODIFIED:20230120T140453Z
UID:6316-1677002400-1677006000@lamarsc.org
SUMMARY:Planning Commission Meeting
DESCRIPTION:[vc_row][vc_column][vc_column_text]\nThe Town of Lamar Planning Commission will be meeting at Town Hall\, February 21\, 2023 @ 6 PM.\n[/vc_column_text][vc_empty_space][/vc_column][/vc_row]\nShare
URL:https://lamarsc.org/event/planning-commission-meeting/
LOCATION:Town Hall\, 117 Main St\, Lamar\, SC\, 29069\, United States
CATEGORIES:Committee/Board Meeting,Town Events
ATTACH;FMTTYPE=image/png:https://lamarsc.org/wp-content/uploads/2022/06/Town-Notices2.png
END:VEVENT
BEGIN:VEVENT
DTSTART;TZID=America/New_York:20230228T120000
DTEND;TZID=America/New_York:20230228T160000
DTSTAMP:20260422T184156
CREATED:20230216T141806Z
LAST-MODIFIED:20230216T141806Z
UID:6353-1677585600-1677600000@lamarsc.org
SUMMARY:Blood Drive
DESCRIPTION:[vc_row][vc_column][vc_column_text]The American Red Cross will be at Lamar High School (ROOM 129) on February 28\, 2023 for a Blood Drive. \nTo make an appointment\, please see a member of the JROTC or go to www.redcrossblood.org  Sponsor code: Lamarhigh \n*Donors must be 16 years old with parental consent and photo ID with DOB\n*17 years and older must show photo ID with DOB and must meet height and weight requirements \nEat a good meal and drink plenty of water! \nAll presenting donors will receive a $20 E-gift card. \nHelp maintain the blood supply.[/vc_column_text][/vc_column][/vc_row]\nShare
URL:https://lamarsc.org/event/blood-drive/
LOCATION:Lamar High School\, 216 N Darlington Ave\, Lamar\, SC\, 29069\, United States
CATEGORIES:Town Events
ATTACH;FMTTYPE=image/png:https://lamarsc.org/wp-content/uploads/2023/02/Blood-Drive-022823.png
END:VEVENT
BEGIN:VEVENT
DTSTART;TZID=America/New_York:20230307T183000
DTEND;TZID=America/New_York:20230307T193000
DTSTAMP:20260422T184156
CREATED:20230227T152235Z
LAST-MODIFIED:20230227T152235Z
UID:6377-1678213800-1678217400@lamarsc.org
SUMMARY:Planning Commission Meeting
DESCRIPTION:[vc_row][vc_column][vc_column_text]The Lamar Planning Commission will be meeting March 7\, 2023 @ 6:30 p.m. at Town Hall.[/vc_column_text][vc_empty_space][/vc_column][/vc_row]\nShare
URL:https://lamarsc.org/event/planning-commission-meeting-2/
LOCATION:Town Hall\, 117 Main St\, Lamar\, SC\, 29069\, United States
CATEGORIES:Committee/Board Meeting,Town Events
ATTACH;FMTTYPE=image/png:https://lamarsc.org/wp-content/uploads/2022/06/Town-Notices2.png
END:VEVENT
BEGIN:VEVENT
DTSTART;TZID=America/New_York:20230316T173000
DTEND;TZID=America/New_York:20230316T190000
DTSTAMP:20260422T184156
CREATED:20230303T192412Z
LAST-MODIFIED:20230303T192412Z
UID:6413-1678987800-1678993200@lamarsc.org
SUMMARY:Parent University
DESCRIPTION:[vc_row][vc_column][vc_column_text]Parent University is a community event hosted by Lamar High School.   Sessions will include: Emotional Health & Connecting to Schoology[/vc_column_text][vc_empty_space][/vc_column][/vc_row][vc_row][vc_column][vc_single_image image=”6414″ img_size=”full”][vc_empty_space][/vc_column][/vc_row]\nShare
URL:https://lamarsc.org/event/parent-university/
LOCATION:Lamar High School\, 216 N Darlington Ave\, Lamar\, SC\, 29069\, United States
CATEGORIES:Town Events
ATTACH;FMTTYPE=image/png:https://lamarsc.org/wp-content/uploads/2023/03/Parent-University-031623-2.png
END:VEVENT
BEGIN:VEVENT
DTSTART;TZID=America/New_York:20230323T090000
DTEND;TZID=America/New_York:20230325T180000
DTSTAMP:20260422T184156
CREATED:20230301T163510Z
LAST-MODIFIED:20230321T193929Z
UID:6385-1679562000-1679767200@lamarsc.org
SUMMARY:Great American Clean Up
DESCRIPTION:[vc_row][vc_column][vc_column_text]\nIt’s the Great American Clean Up!\nMarch 23 – 25\, 2023 is the time to get out\, clean your yard and help a fellow neighbor!   \n\nPlace yard trash or household items by the street and call 843-326-5551 to report them for Town pickup.\nCall 843-617-5126 to get an old car picked up.  No title needed.  The group will pay you for your old automobiles.\nCome down to Town Hall on Saturday\, March 25\, to participate as a community.  We are looking for churches\, school groups and others to show up at 9 a.m. for assignments.  Bags and other supplies will be distributed.  Hot dogs will be served at noon!\n\n[/vc_column_text][/vc_column][/vc_row][vc_row][vc_column][vc_empty_space height=”42px”][/vc_column][/vc_row]\nShare
URL:https://lamarsc.org/event/great-american-clean-up/
CATEGORIES:Town Events
ATTACH;FMTTYPE=image/png:https://lamarsc.org/wp-content/uploads/2023/03/Great-American-Clean-Up-2023.png
END:VEVENT
BEGIN:VEVENT
DTSTART;TZID=America/New_York:20230328T090000
DTEND;TZID=America/New_York:20230328T120000
DTSTAMP:20260422T184156
CREATED:20230310T133220Z
LAST-MODIFIED:20230321T193618Z
UID:6421-1679994000-1680004800@lamarsc.org
SUMMARY:LHS College & Career Fair
DESCRIPTION:[vc_row][vc_column][vc_column_text]Lamar High School College & Career Fair \nTuesday\, March 28\, 2023 at the LHS Gymnasium from 9 AM – 12 PM \n[/vc_column_text][/vc_column][/vc_row][vc_row][vc_column][vc_empty_space][/vc_column][/vc_row]\nShare
URL:https://lamarsc.org/event/lamar-high-school-college-career-fair/
LOCATION:Lamar High School\, 216 N Darlington Ave\, Lamar\, SC\, 29069\, United States
CATEGORIES:Town Events
ATTACH;FMTTYPE=image/png:https://lamarsc.org/wp-content/uploads/2023/03/LHS-college-and-career-fair.png
END:VEVENT
BEGIN:VEVENT
DTSTART;TZID=America/New_York:20230404T170000
DTEND;TZID=America/New_York:20230404T170000
DTSTAMP:20260422T184156
CREATED:20230324T201505Z
LAST-MODIFIED:20230324T201539Z
UID:6491-1680627600-1680627600@lamarsc.org
SUMMARY:Lamar Library Egg Hunt & Craft
DESCRIPTION:[vc_row][vc_column][vc_column_text]Come to the Library for an Egg Hunt & Craft Time! \nAll ages welcome! \n[/vc_column_text][/vc_column][/vc_row][vc_row][vc_column][vc_empty_space][/vc_column][/vc_row]\nShare
URL:https://lamarsc.org/event/lamar-library-egg-hunt-craft/
LOCATION:Lamar Library\, 103 E Main St\, Lamar\, 29069\, United States
CATEGORIES:Town Events
ATTACH;FMTTYPE=image/png:https://lamarsc.org/wp-content/uploads/2023/03/Lamar-Library-April-Easter-events.png
END:VEVENT
BEGIN:VEVENT
DTSTART;TZID=America/New_York:20230418T170000
DTEND;TZID=America/New_York:20230418T170000
DTSTAMP:20260422T184156
CREATED:20230324T202149Z
LAST-MODIFIED:20230324T202149Z
UID:6496-1681837200-1681837200@lamarsc.org
SUMMARY:Lamar Library Seed Bombs
DESCRIPTION:[vc_row][vc_column][vc_column_text]Come to the Lamar Library and make seed bombs! \n[/vc_column_text][/vc_column][/vc_row][vc_row][vc_column][vc_empty_space][/vc_column][/vc_row]\nShare
URL:https://lamarsc.org/event/lamar-library-seed-bombs/
LOCATION:Lamar Library\, 103 E Main St\, Lamar\, 29069\, United States
CATEGORIES:Town Events
ATTACH;FMTTYPE=image/png:https://lamarsc.org/wp-content/uploads/2023/03/Lamar-Library-April-Easter-events.png
END:VEVENT
BEGIN:VEVENT
DTSTART;TZID=America/New_York:20230422T110000
DTEND;TZID=America/New_York:20230422T150000
DTSTAMP:20260422T184156
CREATED:20230421T193322Z
LAST-MODIFIED:20230421T193322Z
UID:6547-1682161200-1682175600@lamarsc.org
SUMMARY:Community Cookout
DESCRIPTION:[vc_row][vc_column][vc_column_text]\nMercantile213 is hosting a Community Cookout!  Gather with your friends and neighbors for a cookout and a special outdoor spring market.\n[/vc_column_text][/vc_column][/vc_row]\nShare
URL:https://lamarsc.org/event/community-cookout/
LOCATION:Mercantile213\, 213 W. Main St\, Lamar\, SC\, 29069\, United States
CATEGORIES:Town Events
ATTACH;FMTTYPE=image/png:https://lamarsc.org/wp-content/uploads/2023/04/community-cookout-042223-2.png
END:VEVENT
BEGIN:VEVENT
DTSTART;TZID=America/New_York:20230422T120000
DTEND;TZID=America/New_York:20230422T120000
DTSTAMP:20260422T184156
CREATED:20230414T182928Z
LAST-MODIFIED:20230414T183203Z
UID:6524-1682164800-1682164800@lamarsc.org
SUMMARY:Church Security & Safety Training
DESCRIPTION:[vc_row][vc_column][vc_column_text]\nThe Lamar First Baptist Church is hosting a Church Security & Active Shooter Awareness Training event on April 22\, 2023.\nThe Darlington County Sheriff’s Office will be at the training to lend guidance.  Contact the Lamar First Baptist Church office for more information.  843-326-5222 \nAll are welcome.[/vc_column_text][/vc_column][/vc_row][vc_row][vc_column][vc_single_image image=”6525″ img_size=”full”][/vc_column][/vc_row][vc_row][vc_column][vc_empty_space][/vc_column][/vc_row]\nShare
URL:https://lamarsc.org/event/church-security-active-shooter-training/
LOCATION:Lamar First Baptist Church\, 303 W. Main St.\, Lamar\, SC\, 29069\, United States
CATEGORIES:Town Events
ATTACH;FMTTYPE=image/png:https://lamarsc.org/wp-content/uploads/2023/04/LBC-training.png
END:VEVENT
BEGIN:VEVENT
DTSTART;TZID=America/New_York:20230425T170000
DTEND;TZID=America/New_York:20230425T170000
DTSTAMP:20260422T184156
CREATED:20230324T202524Z
LAST-MODIFIED:20230324T202524Z
UID:6498-1682442000-1682442000@lamarsc.org
SUMMARY:Lamar Library Paint Workshop
DESCRIPTION:[vc_row][vc_column][vc_column_text]Ages 6 and up – The Lamar Library is hosting an Emoji Paint Workshop!  Each child will paint their own emoji on canvas. \n[/vc_column_text][/vc_column][/vc_row]\nShare
URL:https://lamarsc.org/event/lamar-library-paint-workshop/
LOCATION:Lamar Library\, 103 E Main St\, Lamar\, 29069\, United States
CATEGORIES:Town Events
ATTACH;FMTTYPE=image/png:https://lamarsc.org/wp-content/uploads/2023/03/Lamar-Library-April-Easter-events.png
END:VEVENT
BEGIN:VEVENT
DTSTART;TZID=America/New_York:20230429T083000
DTEND;TZID=America/New_York:20230429T083000
DTSTAMP:20260422T184156
CREATED:20230216T162246Z
LAST-MODIFIED:20230216T162246Z
UID:6357-1682757000-1682757000@lamarsc.org
SUMMARY:Lamar Alumni Assoc. 5K Run Walk
DESCRIPTION:[vc_row][vc_column][vc_column_text]The Lamar Alumni Association is hosting a 5K Run & Walk! \nRegistration: 7:30 AM – 8:15 AM\nRace Begins: 8:30 AM\nWhere?  Lamar Track Field \nFor more info: Twannia (609-257-7177) Retha (803-840-0175) \n[/vc_column_text][/vc_column][/vc_row]\nShare
URL:https://lamarsc.org/event/lamar-alumni-assoc-5k-run-walk/
LOCATION:Lamar Track Field\, 216 N Darlington Ave\, Lamar\, SC\, United States
CATEGORIES:Town Events
ATTACH;FMTTYPE=image/png:https://lamarsc.org/wp-content/uploads/2023/02/5k-Run-Walk-042923-2.png
END:VEVENT
BEGIN:VEVENT
DTSTART;TZID=America/New_York:20230502T170000
DTEND;TZID=America/New_York:20230502T180000
DTSTAMP:20260422T184156
CREATED:20230426T132902Z
LAST-MODIFIED:20230426T132902Z
UID:6561-1683046800-1683050400@lamarsc.org
SUMMARY:Lamar Library Craft Tuesday
DESCRIPTION:[vc_row][vc_column][vc_column_text]Tuesdays at 5PM in the Month of May\, come to the Lamar Library for craft time!!  [/vc_column_text][vc_column_text]May 2: Butterfly Suncatcher Craft\nMay 9: Mother’s Day Craft\nMay 16: Bubble Day\nMay 23: Watercolor Monsters\nMay 30: Balloon Tennis[/vc_column_text][/vc_column][/vc_row][vc_row][vc_column][vc_single_image image=”6562″ img_size=”full”][/vc_column][/vc_row][vc_row][vc_column][vc_empty_space height=”42px”][/vc_column][/vc_row]\nShare
URL:https://lamarsc.org/event/lamar-library-craft-tuesday/
LOCATION:Lamar Library\, 103 E Main St\, Lamar\, 29069\, United States
CATEGORIES:Town Events
ATTACH;FMTTYPE=image/png:https://lamarsc.org/wp-content/uploads/2023/04/May-crafts-library.png
END:VEVENT
BEGIN:VEVENT
DTSTART;TZID=America/New_York:20230509T170000
DTEND;TZID=America/New_York:20230509T180000
DTSTAMP:20260422T184156
CREATED:20230426T133214Z
LAST-MODIFIED:20230426T133214Z
UID:6567-1683651600-1683655200@lamarsc.org
SUMMARY:Lamar Library Craft Tuesday
DESCRIPTION:[vc_row][vc_column][vc_column_text]Tuesdays at 5PM in the Month of May\, come to the Lamar Library for craft time!!  [/vc_column_text][vc_column_text]May 9: Mother’s Day Craft\nMay 16: Bubble Day\nMay 23: Watercolor Monsters\nMay 30: Balloon Tennis[/vc_column_text][/vc_column][/vc_row][vc_row][vc_column][vc_single_image image=”6562″ img_size=”full”][/vc_column][/vc_row]\nShare
URL:https://lamarsc.org/event/lamar-library-craft-tuesday-2/
LOCATION:Lamar Library\, 103 E Main St\, Lamar\, 29069\, United States
CATEGORIES:Town Events
ATTACH;FMTTYPE=image/png:https://lamarsc.org/wp-content/uploads/2023/04/May-crafts-library.png
END:VEVENT
BEGIN:VEVENT
DTSTART;TZID=America/New_York:20230515T181500
DTEND;TZID=America/New_York:20230515T191500
DTSTAMP:20260422T184156
CREATED:20230511T180254Z
LAST-MODIFIED:20230511T183014Z
UID:6593-1684174500-1684178100@lamarsc.org
SUMMARY:Budget Workshop
DESCRIPTION:[vc_row][vc_column][vc_column_text]\nLamar Town Council will hold a Budget Workshop on Monday\, May 15\, 2023 @ 6:15 PM at Town Hall.\n[/vc_column_text][vc_empty_space][/vc_column][/vc_row]\nShare
URL:https://lamarsc.org/event/budget-workshop/
LOCATION:Town Hall\, 117 Main St\, Lamar\, SC\, 29069\, United States
CATEGORIES:Council Meeting,Town Events
ATTACH;FMTTYPE=image/png:https://lamarsc.org/wp-content/uploads/2023/05/Budget-Workshop_Public-Hearings-2023-2024-2.png
END:VEVENT
BEGIN:VEVENT
DTSTART;TZID=America/New_York:20230516T170000
DTEND;TZID=America/New_York:20230516T180000
DTSTAMP:20260422T184156
CREATED:20230426T133636Z
LAST-MODIFIED:20230426T133636Z
UID:6569-1684256400-1684260000@lamarsc.org
SUMMARY:Lamar Library Craft Tuesday
DESCRIPTION:[vc_row][vc_column][vc_column_text]Tuesdays at 5PM in the Month of May\, come to the Lamar Library for craft time!!  [/vc_column_text][vc_column_text]May 16: Bubble Day\nMay 23: Watercolor Monsters\nMay 30: Balloon Tennis[/vc_column_text][/vc_column][/vc_row][vc_row][vc_column][vc_single_image image=”6562″ img_size=”full”][vc_empty_space][/vc_column][/vc_row]\nShare
URL:https://lamarsc.org/event/lamar-library-craft-tuesday-3/
LOCATION:Lamar Library\, 103 E Main St\, Lamar\, 29069\, United States
CATEGORIES:Town Events
ATTACH;FMTTYPE=image/png:https://lamarsc.org/wp-content/uploads/2023/04/May-crafts-library.png
END:VEVENT
BEGIN:VEVENT
DTSTART;TZID=America/New_York:20230523T170000
DTEND;TZID=America/New_York:20230523T180000
DTSTAMP:20260422T184156
CREATED:20230426T133931Z
LAST-MODIFIED:20230426T133931Z
UID:6571-1684861200-1684864800@lamarsc.org
SUMMARY:Lamar Library Craft Tuesday
DESCRIPTION:[vc_row][vc_column][vc_column_text]Tuesdays at 5PM in the Month of May\, come to the Lamar Library for craft time!!  [/vc_column_text][vc_column_text]May 23: Watercolor Monsters\nMay 30: Balloon Tennis[/vc_column_text][/vc_column][/vc_row][vc_row][vc_column][vc_single_image image=”6562″ img_size=”full”][vc_empty_space][/vc_column][/vc_row]\nShare
URL:https://lamarsc.org/event/lamar-library-craft-tuesday-4/
LOCATION:Lamar Library\, 103 E Main St\, Lamar\, 29069\, United States
CATEGORIES:Town Events
ATTACH;FMTTYPE=image/png:https://lamarsc.org/wp-content/uploads/2023/04/May-crafts-library.png
END:VEVENT
END:VCALENDAR