BEGIN:VCALENDAR
VERSION:2.0
PRODID:-//Town of Lamar - ECPv6.15.11//NONSGML v1.0//EN
CALSCALE:GREGORIAN
METHOD:PUBLISH
X-WR-CALNAME:Town of Lamar
X-ORIGINAL-URL:https://lamarsc.org
X-WR-CALDESC:Events for Town of Lamar
REFRESH-INTERVAL;VALUE=DURATION:PT1H
X-Robots-Tag:noindex
X-PUBLISHED-TTL:PT1H
BEGIN:VTIMEZONE
TZID:America/New_York
BEGIN:DAYLIGHT
TZOFFSETFROM:-0500
TZOFFSETTO:-0400
TZNAME:EDT
DTSTART:20210314T070000
END:DAYLIGHT
BEGIN:STANDARD
TZOFFSETFROM:-0400
TZOFFSETTO:-0500
TZNAME:EST
DTSTART:20211107T060000
END:STANDARD
BEGIN:DAYLIGHT
TZOFFSETFROM:-0500
TZOFFSETTO:-0400
TZNAME:EDT
DTSTART:20220313T070000
END:DAYLIGHT
BEGIN:STANDARD
TZOFFSETFROM:-0400
TZOFFSETTO:-0500
TZNAME:EST
DTSTART:20221106T060000
END:STANDARD
BEGIN:DAYLIGHT
TZOFFSETFROM:-0500
TZOFFSETTO:-0400
TZNAME:EDT
DTSTART:20230312T070000
END:DAYLIGHT
BEGIN:STANDARD
TZOFFSETFROM:-0400
TZOFFSETTO:-0500
TZNAME:EST
DTSTART:20231105T060000
END:STANDARD
END:VTIMEZONE
BEGIN:VEVENT
DTSTART;TZID=America/New_York:20220609T180000
DTEND;TZID=America/New_York:20220609T180000
DTSTAMP:20260422T184438
CREATED:20220608T205252Z
LAST-MODIFIED:20220610T192247Z
UID:5724-1654797600-1654797600@lamarsc.org
SUMMARY:Town Council Budget Workshop
DESCRIPTION:[vc_row][vc_column][vc_column_text]\nLamar Town Council is holding a Budget Workshop meeting on June 9\, 2022 @ 6 PM at Town Hall.\nThe public is welcome to attend. \n[/vc_column_text][/vc_column][/vc_row]\nShare
URL:https://lamarsc.org/event/town-council-budget-workshop/
LOCATION:Town Hall\, 117 Main St\, Lamar\, SC\, 29069\, United States
CATEGORIES:Council Meeting,Town Events
ATTACH;FMTTYPE=image/jpeg:https://lamarsc.org/wp-content/uploads/2016/01/Town-Hall-3.jpg
END:VEVENT
BEGIN:VEVENT
DTSTART;TZID=America/New_York:20220616T160000
DTEND;TZID=America/New_York:20220616T170000
DTSTAMP:20260422T184439
CREATED:20220526T164226Z
LAST-MODIFIED:20220526T164226Z
UID:5695-1655395200-1655398800@lamarsc.org
SUMMARY:Tribute to Public Servants
DESCRIPTION:[vc_row][vc_column][vc_column_text]The third celebration of Lamar’s Sesquicentennial will take place on June 16th at 4PM at the Lamar Library in the large meeting room\, as the Town hosts a Tribute to Public Servants. \nCome hear local historian Mr. Brian Gandy of the Darlington Historical Society present characters and the roles they have played in Lamar’s history.[/vc_column_text][/vc_column][/vc_row]\nShare
URL:https://lamarsc.org/event/tribute-to-public-servants/
LOCATION:Lamar Library\, 103 E Main St\, Lamar\, 29069\, United States
CATEGORIES:Anniversary Celebrations,Town Events
ATTACH;FMTTYPE=image/png:https://lamarsc.org/wp-content/uploads/2022/05/Tribute-to-Public-Servants.png
END:VEVENT
BEGIN:VEVENT
DTSTART;TZID=America/New_York:20220616T180000
DTEND;TZID=America/New_York:20220616T200000
DTSTAMP:20260422T184439
CREATED:20220524T194558Z
LAST-MODIFIED:20220524T194558Z
UID:5682-1655402400-1655409600@lamarsc.org
SUMMARY:Women's Self Defense Class
DESCRIPTION:[vc_row][vc_column][vc_column_text]\nThe Darlington Sheriff’s Office and Lamar Police Department are holding a Women’s Self Defense Class!\nThe February class had great participation – come join us for a very informative and interactive class![/vc_column_text][vc_empty_space][vc_column_text]\nInstructed by: Captain Mark Campbell\, Darlington County Sheriff’s Office \nContact: Carl Scott\, Police Chief Town of Lamar 843-639-3900 \nContact: Joyce Coe-Everett\, Community Liaison\, Darlington County Sheriff’s Office 843-861-5919 \n[/vc_column_text][vc_empty_space height=”42px”][/vc_column][/vc_row]\nShare
URL:https://lamarsc.org/event/womens-self-defense-class-2/
LOCATION:Lamar American Legion Post 94\, 323 Warren Ave\, Lamar\, SC\, United States
CATEGORIES:Town Events
ATTACH;FMTTYPE=image/png:https://lamarsc.org/wp-content/uploads/2022/05/womens-self-defense-class-june-2022.png
END:VEVENT
BEGIN:VEVENT
DTSTART;TZID=America/New_York:20220627T180000
DTEND;TZID=America/New_York:20220627T180000
DTSTAMP:20260422T184439
CREATED:20220610T193020Z
LAST-MODIFIED:20220627T195144Z
UID:5740-1656352800-1656352800@lamarsc.org
SUMMARY:Public Hearing on Municipal Budget
DESCRIPTION:[vc_row][vc_column][vc_column_text]\nThe first budget reading will take place during the June 13\, 2022 Lamar Town Council Meeting.\n[/vc_column_text][vc_empty_space][/vc_column][/vc_row][vc_row][vc_column][vc_column_text]\nYou may access the meeting agenda and other relevant documents below:\nMEETING AGENDA\nORDINANCE TO RAISE REVENUE FOR THE TOWN OF LAMAR FOR FISCAL YEAR ENDING 6/30/2023\nTOWN OF LAMAR’S PROPOSED MUNICIPAL BUDGET FISCAL YEAR ENDING 6/30/2023\n[/vc_column_text][vc_empty_space][/vc_column][/vc_row]\nShare
URL:https://lamarsc.org/event/public-hearing-on-municipal-budget/
LOCATION:Town Hall\, 117 Main St\, Lamar\, SC\, 29069\, United States
CATEGORIES:Council Meeting,Town Events
ATTACH;FMTTYPE=image/jpeg:https://lamarsc.org/wp-content/uploads/2016/01/Town-Hall-3.jpg
END:VEVENT
END:VCALENDAR