BEGIN:VCALENDAR
VERSION:2.0
PRODID:-//Town of Lamar - ECPv6.15.11//NONSGML v1.0//EN
CALSCALE:GREGORIAN
METHOD:PUBLISH
X-ORIGINAL-URL:https://lamarsc.org
X-WR-CALDESC:Events for Town of Lamar
REFRESH-INTERVAL;VALUE=DURATION:PT1H
X-Robots-Tag:noindex
X-PUBLISHED-TTL:PT1H
BEGIN:VTIMEZONE
TZID:America/New_York
BEGIN:DAYLIGHT
TZOFFSETFROM:-0500
TZOFFSETTO:-0400
TZNAME:EDT
DTSTART:20240310T070000
END:DAYLIGHT
BEGIN:STANDARD
TZOFFSETFROM:-0400
TZOFFSETTO:-0500
TZNAME:EST
DTSTART:20241103T060000
END:STANDARD
BEGIN:DAYLIGHT
TZOFFSETFROM:-0500
TZOFFSETTO:-0400
TZNAME:EDT
DTSTART:20250309T070000
END:DAYLIGHT
BEGIN:STANDARD
TZOFFSETFROM:-0400
TZOFFSETTO:-0500
TZNAME:EST
DTSTART:20251102T060000
END:STANDARD
BEGIN:DAYLIGHT
TZOFFSETFROM:-0500
TZOFFSETTO:-0400
TZNAME:EDT
DTSTART:20260308T070000
END:DAYLIGHT
BEGIN:STANDARD
TZOFFSETFROM:-0400
TZOFFSETTO:-0500
TZNAME:EST
DTSTART:20261101T060000
END:STANDARD
END:VTIMEZONE
BEGIN:VEVENT
DTSTART;VALUE=DATE:20250901
DTEND;VALUE=DATE:20250902
DTSTAMP:20260422T210444
CREATED:20250120T220407Z
LAST-MODIFIED:20250827T154402Z
UID:8410-1756684800-1756771199@lamarsc.org
SUMMARY:Labor Day
DESCRIPTION:The town offices will be closed in observance of the holiday and will reopen Tuesday\, September 2\, 2025 at normal business hours. Trash collection will be September 2nd and September 5th. Trash will resume regular schedule the week of the 8th. \nShare
URL:https://lamarsc.org/event/labor-day/
CATEGORIES:Town Events
ATTACH;FMTTYPE=image/png:https://lamarsc.org/wp-content/uploads/2025/08/Labor-Day-2025.png
END:VEVENT
BEGIN:VEVENT
DTSTART;TZID=America/New_York:20250908T181500
DTEND;TZID=America/New_York:20250908T191500
DTSTAMP:20260422T210444
CREATED:20250108T142126Z
LAST-MODIFIED:20250108T142126Z
UID:8339-1757355300-1757358900@lamarsc.org
SUMMARY:Lamar Town Council Meeting
DESCRIPTION:Lamar Town Council meets the second Monday of every month at 6:15 p.m.   The public is welcome to attend. \nYou may visit the Town of Lamar Facebook page to view live Council Meetings.  Click here. \nMeeting minutes and agendas may be found here. \nShare
URL:https://lamarsc.org/event/lamar-town-council-meeting-13/
LOCATION:Town Hall\, 117 Main St\, Lamar\, SC\, 29069\, United States
CATEGORIES:Council Meeting
END:VEVENT
BEGIN:VEVENT
DTSTART;TZID=America/New_York:20250915T133000
DTEND;TZID=America/New_York:20250915T133000
DTSTAMP:20260422T210444
CREATED:20250108T145008Z
LAST-MODIFIED:20250108T145008Z
UID:8362-1757943000-1757943000@lamarsc.org
SUMMARY:Lamar Municipal Court
DESCRIPTION:Established by Town Council\, Lamar Municipal Court is part of the South Carolina unified judicial system.  This unified system is under the order and authority of the South Carolina Supreme Court Chief Justice.   The Municipal Court has jurisdiction over cases arising under ordinances of the municipality\, and over all offenses which are subject to a fine not exceeding $500.00 or imprisonment not exceeding 30 days\, or both\, and which occur within the municipality. Most traffic offenses are processed in this court. \nJudge Craig L. La Cross presides over the court\, which is held the third Monday of each month beginning at 1:30 PM. Court is held at the Lamar Town Hall\, 117 W. Main Street\, Lamar\, SC 29069. \nFor more information on paying fines\, please click here. \nShare
URL:https://lamarsc.org/event/lamar-municipal-court-13/
LOCATION:Town Hall\, 117 Main St\, Lamar\, SC\, 29069\, United States
CATEGORIES:Municipal Court
ATTACH;FMTTYPE=image/jpeg:https://lamarsc.org/wp-content/uploads/2016/01/Town-Hall-2.jpg
END:VEVENT
BEGIN:VEVENT
DTSTART;TZID=America/New_York:20250916T090000
DTEND;TZID=America/New_York:20250916T100000
DTSTAMP:20260422T210444
CREATED:20250910T200828Z
LAST-MODIFIED:20250910T200828Z
UID:8830-1758013200-1758016800@lamarsc.org
SUMMARY:Harvest Hope Packing Event
DESCRIPTION:Share
URL:https://lamarsc.org/event/harvest-hope-packing-event/
CATEGORIES:Town Events
ATTACH;FMTTYPE=image/png:https://lamarsc.org/wp-content/uploads/2025/09/HH-Packing-Event-0916-23-25-post.png
END:VEVENT
BEGIN:VEVENT
DTSTART;TZID=America/New_York:20250919T190000
DTEND;TZID=America/New_York:20250919T230000
DTSTAMP:20260422T210444
CREATED:20250911T141553Z
LAST-MODIFIED:20250911T141553Z
UID:8837-1758308400-1758322800@lamarsc.org
SUMMARY:Spaulding Alumni Association Reunion Meet and Greet
DESCRIPTION:Share
URL:https://lamarsc.org/event/spaulding-alumni-association-reunion-meet-and-greet/
LOCATION:Staybridge Suites\, 150 Westpark Drive\, Florence\, SC\, 29501\, United States
ATTACH;FMTTYPE=image/jpeg:https://lamarsc.org/wp-content/uploads/2025/09/Spaulding-High-School-Alumni-Reunion-September-19-20-2025.jpg
END:VEVENT
BEGIN:VEVENT
DTSTART;TZID=America/New_York:20250920T180000
DTEND;TZID=America/New_York:20250920T230000
DTSTAMP:20260422T210444
CREATED:20250911T141113Z
LAST-MODIFIED:20250911T141113Z
UID:8833-1758391200-1758409200@lamarsc.org
SUMMARY:Spaulding Alumni Association Reunion Classes '42-'83
DESCRIPTION:Share
URL:https://lamarsc.org/event/spaulding-alumni-association-reunion-classes-42-83/
LOCATION:Staybridge Suites\, 150 Westpark Drive\, Florence\, SC\, 29501\, United States
ATTACH;FMTTYPE=image/jpeg:https://lamarsc.org/wp-content/uploads/2025/09/Spaulding-High-School-Alumni-Reunion-September-19-20-2025.jpg
END:VEVENT
BEGIN:VEVENT
DTSTART;TZID=America/New_York:20250925T120000
DTEND;TZID=America/New_York:20250925T130000
DTSTAMP:20260422T210444
CREATED:20250910T200540Z
LAST-MODIFIED:20250910T200540Z
UID:8828-1758801600-1758805200@lamarsc.org
SUMMARY:Food Box Giveaway
DESCRIPTION:Share
URL:https://lamarsc.org/event/food-box-giveaway-2/
LOCATION:Town Hall\, 117 Main St\, Lamar\, SC\, 29069\, United States
ATTACH;FMTTYPE=image/png:https://lamarsc.org/wp-content/uploads/2025/09/Food-Box-giveaway-092525-post.png
END:VEVENT
END:VCALENDAR