BEGIN:VCALENDAR
VERSION:2.0
PRODID:-//Town of Lamar - ECPv6.15.11//NONSGML v1.0//EN
CALSCALE:GREGORIAN
METHOD:PUBLISH
X-ORIGINAL-URL:https://lamarsc.org
X-WR-CALDESC:Events for Town of Lamar
REFRESH-INTERVAL;VALUE=DURATION:PT1H
X-Robots-Tag:noindex
X-PUBLISHED-TTL:PT1H
BEGIN:VTIMEZONE
TZID:America/New_York
BEGIN:DAYLIGHT
TZOFFSETFROM:-0500
TZOFFSETTO:-0400
TZNAME:EDT
DTSTART:20240310T070000
END:DAYLIGHT
BEGIN:STANDARD
TZOFFSETFROM:-0400
TZOFFSETTO:-0500
TZNAME:EST
DTSTART:20241103T060000
END:STANDARD
BEGIN:DAYLIGHT
TZOFFSETFROM:-0500
TZOFFSETTO:-0400
TZNAME:EDT
DTSTART:20250309T070000
END:DAYLIGHT
BEGIN:STANDARD
TZOFFSETFROM:-0400
TZOFFSETTO:-0500
TZNAME:EST
DTSTART:20251102T060000
END:STANDARD
BEGIN:DAYLIGHT
TZOFFSETFROM:-0500
TZOFFSETTO:-0400
TZNAME:EDT
DTSTART:20260308T070000
END:DAYLIGHT
BEGIN:STANDARD
TZOFFSETFROM:-0400
TZOFFSETTO:-0500
TZNAME:EST
DTSTART:20261101T060000
END:STANDARD
END:VTIMEZONE
BEGIN:VEVENT
DTSTART;TZID=America/New_York:20251104T070000
DTEND;TZID=America/New_York:20251104T190000
DTSTAMP:20260422T205903
CREATED:20250120T231630Z
LAST-MODIFIED:20250120T231630Z
UID:8415-1762239600-1762282800@lamarsc.org
SUMMARY:Election Day In Lamar
DESCRIPTION:The Lamar Town Council Municipal Election will be held on Election Day\, November 7\, 2023. \nPoll location: Lamar Town Hall \nShare
URL:https://lamarsc.org/event/election-day-in-lamar-2/
LOCATION:Town Hall\, 117 Main St\, Lamar\, SC\, 29069\, United States
CATEGORIES:Town Events
ATTACH;FMTTYPE=image/png:https://lamarsc.org/wp-content/uploads/2025/01/lamar-budget-6.png
END:VEVENT
BEGIN:VEVENT
DTSTART;TZID=America/New_York:20251110T181500
DTEND;TZID=America/New_York:20251110T191500
DTSTAMP:20260422T205903
CREATED:20250108T142429Z
LAST-MODIFIED:20250108T142429Z
UID:8344-1762798500-1762802100@lamarsc.org
SUMMARY:Lamar Town Council Meeting
DESCRIPTION:Lamar Town Council meets the second Monday of every month at 6:15 p.m.   The public is welcome to attend. \nYou may visit the Town of Lamar Facebook page to view live Council Meetings.  Click here. \nMeeting minutes and agendas may be found here. \nShare
URL:https://lamarsc.org/event/lamar-town-council-meeting-15/
LOCATION:Town Hall\, 117 Main St\, Lamar\, SC\, 29069\, United States
CATEGORIES:Council Meeting
ATTACH;FMTTYPE=image/jpeg:https://lamarsc.org/wp-content/uploads/2016/01/Town-Hall-2.jpg
END:VEVENT
BEGIN:VEVENT
DTSTART;VALUE=DATE:20251111
DTEND;VALUE=DATE:20251112
DTSTAMP:20260422T205903
CREATED:20250120T231915Z
LAST-MODIFIED:20250120T231915Z
UID:8418-1762819200-1762905599@lamarsc.org
SUMMARY:Veterans Day
DESCRIPTION:Share
URL:https://lamarsc.org/event/veterans-day/
CATEGORIES:Town Events
ATTACH;FMTTYPE=image/png:https://lamarsc.org/wp-content/uploads/2025/01/lamar-budget-7.png
END:VEVENT
BEGIN:VEVENT
DTSTART;VALUE=DATE:20251111
DTEND;VALUE=DATE:20251112
DTSTAMP:20260422T205903
CREATED:20251103T170943Z
LAST-MODIFIED:20251103T175413Z
UID:8906-1762819200-1762905599@lamarsc.org
SUMMARY:Veterans Day Town Hall Closure
DESCRIPTION:  \nThe Lamar Town Hall will be closed on Tuesday\, November 11\, 2025\, in observance of Veterans Day. Town Hall will reopen on Wednesday\, November 12\, 2025 at normal office hours. \nWe take this day to honor and remember the brave men and women who have served our country with courage and dedication. Regular business hours will resume on Wednesday\, November 12\, 2025. \nWe thank all veterans for their service and sacrifice! \nShare
URL:https://lamarsc.org/event/veterans-day-town-hall-closure/
CATEGORIES:Town Events
ATTACH;FMTTYPE=image/png:https://lamarsc.org/wp-content/uploads/2025/11/Veterans-Day-2025-post.png
END:VEVENT
BEGIN:VEVENT
DTSTART;TZID=America/New_York:20251117T133000
DTEND;TZID=America/New_York:20251117T133000
DTSTAMP:20260422T205903
CREATED:20250108T145237Z
LAST-MODIFIED:20250108T145237Z
UID:8366-1763386200-1763386200@lamarsc.org
SUMMARY:Lamar Municipal Court
DESCRIPTION:Established by Town Council\, Lamar Municipal Court is part of the South Carolina unified judicial system.  This unified system is under the order and authority of the South Carolina Supreme Court Chief Justice.   The Municipal Court has jurisdiction over cases arising under ordinances of the municipality\, and over all offenses which are subject to a fine not exceeding $500.00 or imprisonment not exceeding 30 days\, or both\, and which occur within the municipality. Most traffic offenses are processed in this court. \nJudge Craig L. La Cross presides over the court\, which is held the third Monday of each month beginning at 1:30 PM. Court is held at the Lamar Town Hall\, 117 W. Main Street\, Lamar\, SC 29069. \nFor more information on paying fines\, please click here. \nShare
URL:https://lamarsc.org/event/lamar-municipal-court-15/
LOCATION:Town Hall\, 117 Main St\, Lamar\, SC\, 29069\, United States
CATEGORIES:Municipal Court
ATTACH;FMTTYPE=image/jpeg:https://lamarsc.org/wp-content/uploads/2016/01/Town-Hall-2.jpg
END:VEVENT
BEGIN:VEVENT
DTSTART;TZID=America/New_York:20251122T120000
DTEND;TZID=America/New_York:20251122T190000
DTSTAMP:20260422T205903
CREATED:20251103T171645Z
LAST-MODIFIED:20251103T185006Z
UID:8908-1763812800-1763838000@lamarsc.org
SUMMARY:Christmas on Main
DESCRIPTION:Christmas on Main in Lamar\nGet into the festive spirit at the Town of Lamar’s “Christmas on Main” event on Friday\, November 22nd! The celebration kicks off at 12:30 PM and runs until 5:00 PM\, followed by the annual Christmas parade at 5:30 PM.\n\n\nBring the whole family for a joyful afternoon featuring:\n\nCruisin’ into Christmas Car Show: Admire a variety of vehicles on display.\nMeet & Greet with Santa & Mrs. Claus: Share your wish list and capture a memorable photo with the jolly couple.\nLetters to Santa: Kids can write and mail their letters directly to the North Pole.\n\nThe day culminates in the festive Christmas Parade at 5:30 PM\, making it a perfect community event to ring in the holiday season.\nEvent Details:\n\nDate: Friday\, November 22nd\nTime: 12:30 PM – 5:00 PM (Event); 5:30 PM (Parade)\nLocation: Main Street\, Lamar\n\nFor more information\, please contact:\n\nDanielle Wilkes: 843-339-0419\nKristen Dorriety: 843-992-2808\n\n\nShare
URL:https://lamarsc.org/event/christmas-on-main-3/
LOCATION:Main Street\, 117 Main St\, Lamar\, SC\, 29069
CATEGORIES:Town Events
ATTACH;FMTTYPE=image/png:https://lamarsc.org/wp-content/uploads/2025/11/Christmas-on-Main-2025-post-1.png
END:VEVENT
BEGIN:VEVENT
DTSTART;VALUE=DATE:20251127
DTEND;VALUE=DATE:20251129
DTSTAMP:20260422T205903
CREATED:20250120T232241Z
LAST-MODIFIED:20250120T232241Z
UID:8421-1764201600-1764374399@lamarsc.org
SUMMARY:Thanksgiving Town Hall Closure
DESCRIPTION:Happy Thanksgiving!\n  \nThe Lamar Town Hall will be closed to allow our employees to enjoy the Thanksgiving holidays. \nTrash schedule for Thanksgiving week is: the 24th and 28th \nShare
URL:https://lamarsc.org/event/thanksgiving-town-hall-closure/
CATEGORIES:Town Events
ATTACH;FMTTYPE=image/png:https://lamarsc.org/wp-content/uploads/2025/01/lamar-budget-8.png
END:VEVENT
BEGIN:VEVENT
DTSTART;TZID=America/New_York:20251127T180000
DTEND;TZID=America/New_York:20251127T210000
DTSTAMP:20260422T205903
CREATED:20251103T172603Z
LAST-MODIFIED:20251103T185906Z
UID:8910-1764266400-1764277200@lamarsc.org
SUMMARY:Christmas Tree Lighting
DESCRIPTION:Town of Lamar Christmas Tree Lighting\nJoin the Town of Lamar for a heartwarming start to the holiday season with their annual Christmas Tree Lighting ceremony on Thanksgiving night!\nGather with family and friends for an evening of festive cheer:\n\nChristmas Carols: Sing along to beloved holiday tunes that will fill the air with joy.\nSpecial Appearance by Santa: A magical visit from Santa Claus himself to greet the children and help light the tree.\n\nEvent Details:\n\nDate: Thanksgiving Night (November 27th\, 2025)\nTime: 6:00 PM\n\nCome share in the magic and start a cherished holiday tradition!\nShare
URL:https://lamarsc.org/event/christmas-tree-lighting/
CATEGORIES:Town Events
ATTACH;FMTTYPE=image/png:https://lamarsc.org/wp-content/uploads/2025/11/Christmas-Tree-Lighting-2025-FB.png
END:VEVENT
END:VCALENDAR